BEGIN:VCALENDAR
CALSCALE:GREGORIAN
METHOD:PUBLISH
PRODID:-//github.com/rianjs/ical.net//NONSGML ical.net 4.0//EN
VERSION:2.0
X-FROM-URL:https://eom.sdu.dk/events/ical/f60e5633-ae9b-42f4-aa43-63c2dad0
 0990
X-WR-CALNAME:TEK Dimission Sommer 2026
BEGIN:VTIMEZONE
TZID:Europe/Copenhagen
X-LIC-LOCATION:Europe/Copenhagen
BEGIN:DAYLIGHT
DTSTAMP:20260423T232302Z
DTSTART:20261028T030000
SEQUENCE:0
TZNAME:CEST
TZOFFSETFROM:+0200
TZOFFSETTO:+0100
UID:7ed4c46f-187c-406c-8adf-da22b4977138
END:DAYLIGHT
BEGIN:STANDARD
DTSTAMP:20260423T232302Z
DTSTART:20260325T020000
SEQUENCE:0
TZNAME:CEST
TZOFFSETFROM:+0100
TZOFFSETTO:+0200
UID:63aff986-fac7-4aca-b13c-5563b2442f86
END:STANDARD
END:VTIMEZONE
BEGIN:VEVENT
DESCRIPTION:Kære kommende dimittend.\n\nTirsdag d. 30. juni holder vi somm
 erens dimission. Dimitterer du fra TEK\, så modtager du en indbydelse i d
 in SDU mail.\nDu kan finde mere information på siden [url=https://eur03.s
 afelinks.protection.outlook.com/?url=https%3A%2F%2Fmitsdu.dk%2Fda%2Fmit_s
 tudie%2Fingenioeruddannelserne%2Fdimission&data=05%7C02%7CTEK-SEK-HELP%40
 tek.sdu.dk%7C9bb7a4797b5b43ae350a08de33cf095d%7C9a97c27db83e4694b35354bdb
 f18ab5b%7C0%7C0%7C639005161468298614%7CUnknown%7CTWFpbGZsb3d8eyJFbXB0eU1h
 cGkiOnRydWUsIlYiOiIwLjAuMDAwMCIsIlAiOiJXaW4zMiIsIkFOIjoiTWFpbCIsIldUIjoyf
 Q%3D%3D%7C0%7C%7C%7C&sdata=L5BV2cK8byAbEBdLFLuwGYL5QX2vbtpspHarLvZRx5E%3D
 &reserved=0]https://mitsdu.dk/da/mit_studie/ingenioeruddannelserne/dimiss
 ion[/url]
DTEND:20260630T140000Z
DTSTAMP:20260423T232302Z
DTSTART:20260630T080000Z
LOCATION:Syddansk Universitet\, Campusvej 55\, 5230\, Odense M
SEQUENCE:0
SUMMARY:TEK Dimission Sommer 2026
UID:cd46457f-69c7-43d6-b289-accc94a012e4
END:VEVENT
END:VCALENDAR
