BEGIN:VCALENDAR
CALSCALE:GREGORIAN
METHOD:PUBLISH
PRODID:-//github.com/rianjs/ical.net//NONSGML ical.net 4.0//EN
VERSION:2.0
X-FROM-URL:https://eom.sdu.dk/events/ical/ee8bddc1-d928-4df5-aef9-dee19065
 38a5
X-WR-CALNAME:Workshop: Webdag i Esbjerg
BEGIN:VTIMEZONE
TZID:Europe/Copenhagen
X-LIC-LOCATION:Europe/Copenhagen
BEGIN:DAYLIGHT
DTSTAMP:20260421T164231Z
DTSTART:20261028T030000
SEQUENCE:0
TZNAME:CEST
TZOFFSETFROM:+0200
TZOFFSETTO:+0100
UID:05be2b7b-817f-467e-8357-a4d6bb3e74e5
END:DAYLIGHT
BEGIN:STANDARD
DTSTAMP:20260421T164231Z
DTSTART:20260325T020000
SEQUENCE:0
TZNAME:CEST
TZOFFSETFROM:+0100
TZOFFSETTO:+0200
UID:d50895c5-e781-4bed-b186-6b0ba2c1db9e
END:STANDARD
END:VTIMEZONE
BEGIN:VEVENT
DESCRIPTION:Kurset foregår som en workshopdag med mulighed for at komme me
 d emner\, som du ønsker gennemgået. Der bliver ligeledes mulighed for at 
 arbejde med egne sider og få hjælp og inspiration til dette fra undervise
 rne og de andre webredaktører.
DTEND:20240319T140000Z
DTSTAMP:20260421T164231Z
DTSTART:20240319T080000Z
LOCATION:Syddansk Universitet\, Degnevej 14\, 6705\, Esbjerg Ø
SEQUENCE:0
SUMMARY:Workshop: Webdag i Esbjerg
UID:b69d4881-ba2a-4dec-9e65-36e7e4ae5e7b
END:VEVENT
END:VCALENDAR
