BEGIN:VCALENDAR
CALSCALE:GREGORIAN
METHOD:PUBLISH
PRODID:-//github.com/rianjs/ical.net//NONSGML ical.net 4.0//EN
VERSION:2.0
X-FROM-URL:https://eom.sdu.dk/events/ical/df1903d5-f008-487c-9f6c-d6b7877c
 4f2a
X-WR-CALNAME:Generalforsamling
BEGIN:VTIMEZONE
TZID:Europe/Copenhagen
X-LIC-LOCATION:Europe/Copenhagen
BEGIN:DAYLIGHT
DTSTAMP:20260419T122837Z
DTSTART:20261028T030000
SEQUENCE:0
TZNAME:CEST
TZOFFSETFROM:+0200
TZOFFSETTO:+0100
UID:19b23c63-d3e1-4244-bc0e-364710effa64
END:DAYLIGHT
BEGIN:STANDARD
DTSTAMP:20260419T122837Z
DTSTART:20260325T020000
SEQUENCE:0
TZNAME:CEST
TZOFFSETFROM:+0100
TZOFFSETTO:+0200
UID:5ade03ed-127c-464d-9671-8907ea5fbcbe
END:STANDARD
END:VTIMEZONE
BEGIN:VEVENT
DESCRIPTION:Læs mere: [url=https://eur03.safelinks.protection.outlook.com/
 ?url=https%3A%2F%2Ffb.me%2Fe%2F36EUW1aDK&data=05%7C02%7Cmist%40imada.sdu.
 dk%7C4ad5de5d69434483955e08ddebbbe8d9%7C9a97c27db83e4694b35354bdbf18ab5b%
 7C0%7C0%7C638925914535887532%7CUnknown%7CTWFpbGZsb3d8eyJFbXB0eU1hcGkiOnRy
 dWUsIlYiOiIwLjAuMDAwMCIsIlAiOiJXaW4zMiIsIkFOIjoiTWFpbCIsIldUIjoyfQ%3D%3D%
 7C0%7C%7C%7C&sdata=9A3tMitHn3mtFzOq5NKe9zIsbKUrY22lj%2F1pILfiSu0%3D&reser
 ved=0]https://fb.me/e/36EUW1aDK[/url]
DTEND:20260318T225900Z
DTSTAMP:20260419T122837Z
DTSTART:20260318T160000Z
LOCATION:Syddansk Universitet\, Campusvej 55\, 5230\, Odense M
SEQUENCE:0
SUMMARY:Generalforsamling
UID:50e02cd4-16f0-4da1-8b90-b49b788bcbb4
END:VEVENT
END:VCALENDAR
