BEGIN:VCALENDAR
CALSCALE:GREGORIAN
METHOD:PUBLISH
PRODID:-//github.com/rianjs/ical.net//NONSGML ical.net 4.0//EN
VERSION:2.0
X-FROM-URL:https://eom.sdu.dk/events/ical/d44d90aa-d60f-416e-b049-f29fa838
 796b
X-WR-CALNAME:DIAS Wild Wednesday: How will “Excellence in Science” be defi
 ned in the future?
BEGIN:VTIMEZONE
TZID:Europe/Copenhagen
X-LIC-LOCATION:Europe/Copenhagen
BEGIN:DAYLIGHT
DTSTAMP:20260419T231154Z
DTSTART:20261028T030000
SEQUENCE:0
TZNAME:CEST
TZOFFSETFROM:+0200
TZOFFSETTO:+0100
UID:d69690e5-8eae-47a5-bd53-27b5e966d11e
END:DAYLIGHT
BEGIN:STANDARD
DTSTAMP:20260419T231154Z
DTSTART:20260325T020000
SEQUENCE:0
TZNAME:CEST
TZOFFSETFROM:+0100
TZOFFSETTO:+0200
UID:6ac2e48e-8549-479a-bb80-1b035f39d89e
END:STANDARD
END:VTIMEZONE
BEGIN:VEVENT
DESCRIPTION:The concept of excellence in science has evolved significantly
  over the past decades. Whereas it has traditionally emphasized individua
 l achievement\, disciplinary specialization\, and publication metrics\, t
 he future may place greater value on collaborative and interdisciplinary 
 work\, societal relevance\, diversity and inclusion\, and overall researc
 h integrity. These shifts reflect changing societal values\, technologica
 l advances\, funding structures\, and evolving scientific priorities.\n\n
 This D-IAS Wild Wednesday be an interactive question-driven\, joint audit
 orium-wide \, open-ended discussion on how “excellence in science” might 
 be redefined if we imagine a scenario where publications\, citations\, an
 d grants are no longer central measures. Instead\, excellence could be as
 sessed through participation in collaborative networks\, contributions to
  societal impact\, integrity\, and the promotion of diversity and inclusi
 on.\n\nOur discussion will be guided by address key themes\, including:\n
 [list]\n[*]Foundational Questions\n[*]Measurement & Metrics\n[*]Collabora
 tion\n[*]Diversity & Responsibility\n[*]Global and Evolving Perspectives\
 n[*]Futures and Reform\n[/list]\nThis Wild Wednesday is organised by[b] C
 arsten Rahbek\, [/b]DIAS Chair of Science [b]([/b]Department of Biology)\
 n\n[i]Open for all - no registration needed.[/i]
DTEND:20251105T111500Z
DTSTAMP:20260419T231154Z
DTSTART:20251105T101500Z
LOCATION:DIAS Auditorium\, SDU\, Fioniavej 34\, 5230\, Odense M
SEQUENCE:0
SUMMARY:DIAS Wild Wednesday: How will “Excellence in Science” be defined i
 n the future?
UID:63d6f771-1026-48e2-80c5-82e9b0916931
END:VEVENT
END:VCALENDAR
