BEGIN:VCALENDAR
CALSCALE:GREGORIAN
METHOD:PUBLISH
PRODID:-//github.com/rianjs/ical.net//NONSGML ical.net 4.0//EN
VERSION:2.0
X-FROM-URL:https://eom.sdu.dk/events/ical/d20eea28-f328-4a49-8ab9-8af6b5bb
 2e57
X-WR-CALNAME:NATO\, Russia\, and the war in Ukraine - DIAS lecture by John
  Andreas Olsen
BEGIN:VTIMEZONE
TZID:Europe/Copenhagen
X-LIC-LOCATION:Europe/Copenhagen
BEGIN:DAYLIGHT
DTSTAMP:20260425T115921Z
DTSTART:20261028T030000
SEQUENCE:0
TZNAME:CEST
TZOFFSETFROM:+0200
TZOFFSETTO:+0100
UID:37766034-5657-4f17-b043-464ffda85796
END:DAYLIGHT
BEGIN:STANDARD
DTSTAMP:20260425T115921Z
DTSTART:20260325T020000
SEQUENCE:0
TZNAME:CEST
TZOFFSETFROM:+0100
TZOFFSETTO:+0200
UID:06545c95-30e7-4d1e-ae2f-db33c36bb3cb
END:STANDARD
END:VTIMEZONE
BEGIN:VEVENT
DESCRIPTION:John Andreas Olsen is a Defense Planner at NATO Headquarters\,
  a distinguished member of the Royal Norwegian Air Force\, and a professo
 r at the Norwegian Institute for Defence Studies. He is also the editor o
 f the Routledge Handbook of NATO (2024). \n \nDrawing from his extensive 
 experience and current role at NATO Headquarters in Brussels\, Olsen will
  shed light on NATO\, Russia\, and the war in Ukraine\, offering insights
  into one of today’s most critical global challenges.\n\n_________\n\nVen
 ue: DIAS Auditorium (V24-501a-0)\n[b]OPEN FOR ALL[/b]
DTEND:20240904T101500Z
DTSTAMP:20260425T115921Z
DTSTART:20240904T090000Z
LOCATION:DIAS\, Fioniavej 34\, 5230\, Odense M
SEQUENCE:0
SUMMARY:NATO\, Russia\, and the war in Ukraine - DIAS lecture by John Andr
 eas Olsen
UID:dd9e4948-5e83-4495-9d82-6f311bd6dcb8
END:VEVENT
END:VCALENDAR
