BEGIN:VCALENDAR
CALSCALE:GREGORIAN
METHOD:PUBLISH
PRODID:-//github.com/rianjs/ical.net//NONSGML ical.net 4.0//EN
VERSION:2.0
X-FROM-URL:https://eom.sdu.dk/events/ical/c0cf633b-ecbe-4a4a-8a49-3e00ffc7
 2106
X-WR-CALNAME:DIAS Event: Support for Political Violence in the United Stat
 es:  What explains why some Americans support and tolerate violent extrem
 ism and what can be done about it by James A. Piazza
BEGIN:VTIMEZONE
TZID:Europe/Copenhagen
X-LIC-LOCATION:Europe/Copenhagen
BEGIN:DAYLIGHT
DTSTAMP:20260423T043030Z
DTSTART:20261028T030000
SEQUENCE:0
TZNAME:CEST
TZOFFSETFROM:+0200
TZOFFSETTO:+0100
UID:512d2647-1e9e-4ac8-a346-91694c05ca96
END:DAYLIGHT
BEGIN:STANDARD
DTSTAMP:20260423T043030Z
DTSTART:20260325T020000
SEQUENCE:0
TZNAME:CEST
TZOFFSETFROM:+0100
TZOFFSETTO:+0200
UID:d9b80b01-ea54-45e8-b174-3b685be944fc
END:STANDARD
END:VTIMEZONE
BEGIN:VEVENT
DESCRIPTION:Experts worry that support and tolerance for political violenc
 e and violent extremist actors is on the rise in the United States.  Is t
 his true?  If so\, what might explain why more Americans view political v
 iolence to be acceptable? \nFinally\, what can be done to stem the tide o
 f support for political violence in the U.S. and perhaps elsewhere.  In t
 his lecture I present some of my findings over several years of public op
 inion research on political violence in the United States\n\n[b]James A. 
 Piazza[/b] is a Liberal Arts professor of Political Science whose researc
 h focuses on terrorism\, political violence\, and violent extremism in th
 e United States. He holds a Ph.D. in Politics from New York University\, 
 an M.A. in Middle East Studies from the University of Michigan\, and a B.
 A. in Political Science from Loyola University Chicago. Piazza’s work exa
 mines how democratic processes\, demographic change\, and extremist ideol
 ogies shape patterns of political violence. His research has been publish
 ed in leading journals\, including Proceedings of the National Academy of
  Sciences\, Security Studies\, and Political Research Quarterly\, and he 
 is widely recognized for his comparative studies of left‑wing\, right‑win
 g\, and Islamist extremism.
DTEND:20260923T101500Z
DTSTAMP:20260423T043030Z
DTSTART:20260923T091500Z
LOCATION:DIAS Auditorie\, Fioniavej 34\, 5230\, Odense M
SEQUENCE:0
SUMMARY:DIAS Event: Support for Political Violence in the United States:  
 What explains why some Americans support and tolerate violent extremism a
 nd what can be done about it by James A. Piazza
UID:dc362623-73ee-4cfd-9943-63d315b397b9
END:VEVENT
END:VCALENDAR
