BEGIN:VCALENDAR
CALSCALE:GREGORIAN
METHOD:PUBLISH
PRODID:-//github.com/rianjs/ical.net//NONSGML ical.net 4.0//EN
VERSION:2.0
X-FROM-URL:https://eom.sdu.dk/events/ical/c0933528-4847-4fc5-84b6-eaa773cd
 e9d0
X-WR-CALNAME:From the Big Bang to the Big Unknown: The Universe’s Beginnin
 g and End
BEGIN:VTIMEZONE
TZID:Europe/Copenhagen
X-LIC-LOCATION:Europe/Copenhagen
BEGIN:DAYLIGHT
DTSTAMP:20260419T194601Z
DTSTART:20261028T030000
SEQUENCE:0
TZNAME:CEST
TZOFFSETFROM:+0200
TZOFFSETTO:+0100
UID:97b9d2c4-e1eb-4810-80a9-d3b53f2ca84d
END:DAYLIGHT
BEGIN:STANDARD
DTSTAMP:20260419T194601Z
DTSTART:20260325T020000
SEQUENCE:0
TZNAME:CEST
TZOFFSETFROM:+0100
TZOFFSETTO:+0200
UID:201dea09-3676-4dd4-82d4-0954cda88485
END:STANDARD
END:VTIMEZONE
BEGIN:VEVENT
DESCRIPTION:Arrangementet afholdes på engelsk. [url=https://fb.me/e/8FO5f1
 g79]Klik her[/url] for at læse en beskrivelse af arrangementet.
DTEND:20260320T150000Z
DTSTAMP:20260419T194601Z
DTSTART:20260320T140000Z
LOCATION:Syddansk Universitet\, Campusvej 55\, 5230\, Odense M
SEQUENCE:0
SUMMARY:From the Big Bang to the Big Unknown: The Universe’s Beginning and
  End
UID:78bd68cc-0b3c-47e2-977f-f8a968bfd9c1
END:VEVENT
END:VCALENDAR
