BEGIN:VCALENDAR
CALSCALE:GREGORIAN
METHOD:PUBLISH
PRODID:-//github.com/rianjs/ical.net//NONSGML ical.net 4.0//EN
VERSION:2.0
X-FROM-URL:https://eom.sdu.dk/events/ical/c03dec9c-3498-4ac9-8f06-d1bf134a
 222f
X-WR-CALNAME:QC Research Seminar: TBA
BEGIN:VTIMEZONE
TZID:Europe/Copenhagen
X-LIC-LOCATION:Europe/Copenhagen
BEGIN:DAYLIGHT
DTSTAMP:20260421T140612Z
DTSTART:20261028T030000
SEQUENCE:0
TZNAME:CEST
TZOFFSETFROM:+0200
TZOFFSETTO:+0100
UID:f251096f-145f-421f-bae6-15d64895bb8f
END:DAYLIGHT
BEGIN:STANDARD
DTSTAMP:20260421T140612Z
DTSTART:20260325T020000
SEQUENCE:0
TZNAME:CEST
TZOFFSETFROM:+0100
TZOFFSETTO:+0200
UID:1636677f-1510-4b4a-b391-3cc56fae1bc2
END:STANDARD
END:VTIMEZONE
BEGIN:VEVENT
DESCRIPTION:[b]Speaker: Ben Brown[/b] (IBM).\n\n[b]Abstract: TBA[/b]
DTEND:20260511T140000Z
DTSTAMP:20260421T140612Z
DTSTART:20260511T130000Z
LOCATION:Syddansk Universitet\, Campusvej 55\, 5230\, Odense M
SEQUENCE:0
SUMMARY:QC Research Seminar: TBA
UID:3d94b1a4-aedb-4201-b3fc-e19ad88c9e47
END:VEVENT
END:VCALENDAR
