BEGIN:VCALENDAR
CALSCALE:GREGORIAN
METHOD:PUBLISH
PRODID:-//github.com/rianjs/ical.net//NONSGML ical.net 4.0//EN
VERSION:2.0
X-FROM-URL:https://eom.sdu.dk/events/ical/bc6ca5f1-e615-47bc-877f-a7727427
 0d28
X-WR-CALNAME:Journal Club: How I (machine) learned the quantum many-body p
 roblem
BEGIN:VTIMEZONE
TZID:Europe/Copenhagen
X-LIC-LOCATION:Europe/Copenhagen
BEGIN:DAYLIGHT
DTSTAMP:20260425T232110Z
DTSTART:20261028T030000
SEQUENCE:0
TZNAME:CEST
TZOFFSETFROM:+0200
TZOFFSETTO:+0100
UID:c39c683c-9c0d-49d6-9643-0dd91c930264
END:DAYLIGHT
BEGIN:STANDARD
DTSTAMP:20260425T232110Z
DTSTART:20260325T020000
SEQUENCE:0
TZNAME:CEST
TZOFFSETFROM:+0100
TZOFFSETTO:+0200
UID:599a14c8-9fb8-43c4-972a-d74224ea333a
END:STANDARD
END:VTIMEZONE
BEGIN:VEVENT
DESCRIPTION:[b]Speaker:[/b] Pietro Butti\n[b]Abstract:[/b] Neural network 
 quantum states (NNQS) represent a novel approach in quantum many-body phy
 sics using techniques inspired by artificial neural networks combined wit
 h standard variational Monte-Carlo methods. The growing computational and
  algorithmic capabilities make this method comparable to standard state-o
 f-the-art methodologies while offering promising advantages. It can lever
 age extensive research in machine learning and easily integrate with exis
 ting libraries\, simplifying code development in an unprecedented way. Th
 is accessibility and versatility make it appealing for developing new app
 lications\, even beyond quantum many-body physics itself. The purpose of 
 this talk is to provide a thorough introduction of the topic with the hel
 p of some practical example.\n[b]Location:[/b] [url=https://clients.mapsi
 ndoors.com/sdu/573f26e4bc1f571b08094312/details/19fef68999464586965ec676]
 The DIAS Meetingroom Syd (V22-503a-2)[/url]\nYou can also [url=https://sy
 ddanskuni.zoom.us/j/68803047878#success]join via Zoom[/url] (passcode: 06
 0379).\n\nThe event is open to all.
DTEND:20240329T120000Z
DTSTAMP:20260425T232110Z
DTSTART:20240329T103000Z
LOCATION:Syddansk Universitet\, Fioniavej 34\, 5230\, Odense M
SEQUENCE:0
SUMMARY:Journal Club: How I (machine) learned the quantum many-body problem
UID:db361825-edc4-4926-8c4b-2d39b9388623
END:VEVENT
END:VCALENDAR
