BEGIN:VCALENDAR
CALSCALE:GREGORIAN
METHOD:PUBLISH
PRODID:-//github.com/rianjs/ical.net//NONSGML ical.net 4.0//EN
VERSION:2.0
X-FROM-URL:https://eom.sdu.dk/events/ical/bc2285c6-7487-4ca3-9116-141a263f
 ff1e
X-WR-CALNAME:QM Research Seminar: Canonical differential equations beyond 
 polylogarithms
BEGIN:VTIMEZONE
TZID:Europe/Copenhagen
X-LIC-LOCATION:Europe/Copenhagen
BEGIN:DAYLIGHT
DTSTAMP:20260420T093238Z
DTSTART:20261028T030000
SEQUENCE:0
TZNAME:CEST
TZOFFSETFROM:+0200
TZOFFSETTO:+0100
UID:dd2d1d75-a393-4e3f-b520-fdf196fc5db8
END:DAYLIGHT
BEGIN:STANDARD
DTSTAMP:20260420T093238Z
DTSTART:20260325T020000
SEQUENCE:0
TZNAME:CEST
TZOFFSETFROM:+0100
TZOFFSETTO:+0200
UID:8b5654e2-8e0c-4073-9f6f-23033893bf87
END:STANDARD
END:VTIMEZONE
BEGIN:VEVENT
DESCRIPTION:[b]Speaker: Sara Maggio [/b](​University of Bonn).\n\n[b]Abstr
 act: [/b]\nFeynman integrals associated with geometries beyond the Rieman
 n sphere\, such as elliptic and Calabi–Yau geometries\, are playing an in
 creasingly important role in modern precision calculations. They appear n
 ot only in collider cross sections\, but also in gravitational-wave scatt
 ering. A powerful way to compute these integrals is through systems of di
 fferential equations\, particularly when these can be brought into canoni
 cal form\, making their singularity structure manifest. In this talk\, I 
 will present a method to construct canonical differential equations for m
 ulti-loop Feynman integrals beyond the polylogarithmic setting\, with par
 ticular emphasis on Calabi–Yau examples. After introducing the method thr
 ough the two-loop sunrise integral\, I will show how it applies to the cu
 tting-edge case of the three-loop multi-parameter banana integrals.
DTEND:20260413T140000Z
DTSTAMP:20260420T093238Z
DTSTART:20260413T130000Z
LOCATION:Syddansk Universitet\, Campusvej 55\, 5230\, Odense M
SEQUENCE:0
SUMMARY:QM Research Seminar: Canonical differential equations beyond polyl
 ogarithms
UID:e358a588-c9b9-4400-82cb-34b2d12046eb
END:VEVENT
END:VCALENDAR
