BEGIN:VCALENDAR
CALSCALE:GREGORIAN
METHOD:PUBLISH
PRODID:-//github.com/rianjs/ical.net//NONSGML ical.net 4.0//EN
VERSION:2.0
X-FROM-URL:https://eom.sdu.dk/events/ical/ba2da1b0-8955-4765-863d-8a3011d0
 11ac
X-WR-CALNAME:International workshop: DAMVISEH - DAta Mining\, VIsualizatio
 n\, and SEarch in very High-dimensional spaces
BEGIN:VTIMEZONE
TZID:Europe/Copenhagen
X-LIC-LOCATION:Europe/Copenhagen
BEGIN:DAYLIGHT
DTSTAMP:20260422T152834Z
DTSTART:20261028T030000
SEQUENCE:0
TZNAME:CEST
TZOFFSETFROM:+0200
TZOFFSETTO:+0100
UID:c6c43cec-c460-4d8d-9ba2-db8e860ad69c
END:DAYLIGHT
BEGIN:STANDARD
DTSTAMP:20260422T152834Z
DTSTART:20260325T020000
SEQUENCE:0
TZNAME:CEST
TZOFFSETFROM:+0100
TZOFFSETTO:+0200
UID:059d96a1-3350-4ce1-8c90-201a8368214f
END:STANDARD
END:VTIMEZONE
BEGIN:VEVENT
DESCRIPTION:Læs mere om workshoppen: [url]https://event.sdu.dk/damviseh/ov
 erview[/url]
DTEND:20251128T140000Z
DTSTAMP:20260422T152834Z
DTSTART:20251127T070000Z
LOCATION:Syddansk Universitet\, Campusvej 55\, 5230\, Odense M
SEQUENCE:0
SUMMARY:International workshop: DAMVISEH - DAta Mining\, VIsualization\, a
 nd SEarch in very High-dimensional spaces
UID:14531cd9-6d8e-4af9-b8da-c2b6f7eb3285
END:VEVENT
END:VCALENDAR
