BEGIN:VCALENDAR
CALSCALE:GREGORIAN
METHOD:PUBLISH
PRODID:-//github.com/rianjs/ical.net//NONSGML ical.net 4.0//EN
VERSION:2.0
X-FROM-URL:https://eom.sdu.dk/events/ical/af82b549-b020-4a02-9f2b-16c884e9
 1a4d
X-WR-CALNAME:Niels Reeh's doctoral defence
BEGIN:VTIMEZONE
TZID:Europe/Copenhagen
X-LIC-LOCATION:Europe/Copenhagen
BEGIN:DAYLIGHT
DTSTAMP:20260425T001629Z
DTSTART:20261028T030000
SEQUENCE:0
TZNAME:CEST
TZOFFSETFROM:+0200
TZOFFSETTO:+0100
UID:5ca6910b-0ac2-4b43-ac7f-8fce0dffc4ed
END:DAYLIGHT
BEGIN:STANDARD
DTSTAMP:20260425T001629Z
DTSTART:20260325T020000
SEQUENCE:0
TZNAME:CEST
TZOFFSETFROM:+0100
TZOFFSETTO:+0200
UID:cb909384-062d-4f4b-8a13-d18577d98e52
END:STANDARD
END:VTIMEZONE
BEGIN:VEVENT
DESCRIPTION:The Faculty of Humanities at the University of Southern Denmar
 k hereby announces Niels Reeh's doctoral oral defence (dr.phil.). \n\nThe
  defence will take place on Friday\, February 27\, 2026\, at 10.00 a.m. a
 t Campusvej 55\, 5230 Odense M in room O100.\n\nThe defence will be condu
 cted publicly and in English. Niels Reeh's doctoral dissertation is title
 d ”Relational Forms of Religious Life”.\n\nThe dissertation is available 
 at: \nNiels Reeh reeh@sdu.dk.\n\nAny unofficial opponents must report to 
 the leader of the doctoral defence prior to the start of the defence.\n\n
 The doctoral dissertation has been assessed by a committee comprising: \n
 [list]\n[*]Professor Dietrich Jung\, University of Southern Denmark\, Den
 mark.\n[*]Professor Sissel Undheim\, University of Bergen\, Norway\n[*]Pr
 ofessor emeritus Peter Beyer\, University of Ottawa\, Canada.\n[/list]\nS
 issel Undheim and Peter Beyer will be the official opponents on the day. 
 \n\nWe look forward to seeing you.\n\nBest regards\,\nSimon Møberg Torp\n
 Dean
DTEND:20260227T150000Z
DTSTAMP:20260425T001629Z
DTSTART:20260227T090000Z
LOCATION:Syddansk Universitet\, Campusvej 55\, 5230\, Odense M
SEQUENCE:0
SUMMARY:Niels Reeh's doctoral defence
UID:cfa7506f-ff30-4730-af39-f86e7ab690af
END:VEVENT
END:VCALENDAR
