BEGIN:VCALENDAR
CALSCALE:GREGORIAN
METHOD:PUBLISH
PRODID:-//github.com/rianjs/ical.net//NONSGML ical.net 4.0//EN
VERSION:2.0
X-FROM-URL:https://eom.sdu.dk/events/ical/9c2588dc-7ba9-4277-88e2-eff52140
 7378
X-WR-CALNAME:Capitalism Thursdays: Økonomisk historie på SDU – hvor står v
 i?
BEGIN:VTIMEZONE
TZID:Europe/Copenhagen
X-LIC-LOCATION:Europe/Copenhagen
BEGIN:DAYLIGHT
DTSTAMP:20260421T140602Z
DTSTART:20261028T030000
SEQUENCE:0
TZNAME:CEST
TZOFFSETFROM:+0200
TZOFFSETTO:+0100
UID:eb6a87f3-2224-4867-bc32-2ff30aaab956
END:DAYLIGHT
BEGIN:STANDARD
DTSTAMP:20260421T140602Z
DTSTART:20260325T020000
SEQUENCE:0
TZNAME:CEST
TZOFFSETFROM:+0100
TZOFFSETTO:+0200
UID:f81b5fd3-fb3b-423d-9eec-0fc59cccb87b
END:STANDARD
END:VTIMEZONE
BEGIN:VEVENT
DESCRIPTION:TBA
DTEND:20261210T140000Z
DTSTAMP:20260421T140602Z
DTSTART:20261210T120000Z
LOCATION:DIAS Seminarrum\, Fioniavej 34\, 5230\, Odense M
SEQUENCE:0
SUMMARY:Capitalism Thursdays: Økonomisk historie på SDU – hvor står vi?
UID:3ee3a658-b30e-4360-894e-3e255feaa7ac
END:VEVENT
END:VCALENDAR
