BEGIN:VCALENDAR
CALSCALE:GREGORIAN
METHOD:PUBLISH
PRODID:-//github.com/rianjs/ical.net//NONSGML ical.net 4.0//EN
VERSION:2.0
X-FROM-URL:https://eom.sdu.dk/events/ical/839b1a81-6941-413b-af0c-94306622
 816a
X-WR-CALNAME:Life and element cycling in the deepest oceanic trenches on E
 arth
BEGIN:VTIMEZONE
TZID:Europe/Copenhagen
X-LIC-LOCATION:Europe/Copenhagen
BEGIN:DAYLIGHT
DTSTAMP:20260424T225426Z
DTSTART:20261028T030000
SEQUENCE:0
TZNAME:CEST
TZOFFSETFROM:+0200
TZOFFSETTO:+0100
UID:2690c413-c155-458a-82d9-26079d9db144
END:DAYLIGHT
BEGIN:STANDARD
DTSTAMP:20260424T225426Z
DTSTART:20260325T020000
SEQUENCE:0
TZNAME:CEST
TZOFFSETFROM:+0100
TZOFFSETTO:+0200
UID:619fc30c-15b5-4282-b097-5f672b67e136
END:STANDARD
END:VTIMEZONE
BEGIN:VEVENT
DESCRIPTION:[b]DIAS Chair of Biology and Professor\, Ronnie N. Glud\, give
 s an open lecture at Danish Institute for Advanced Study at SDU.[/b] [nl]
 [nl]\n\n\nThe deep-sea coves more than 60% of Earth and processes in the 
 deep ocean are critical for the biogeochemical function and the climate o
 n our planet.[nl]\n However\, deep-sea investigations are challenging\, a
 nd the deep ocean remain largely unexplored. This is particularly true fo
 r the deepest part of the oceans\, the hadal realm\, which stretches from
  6 to 11 km of water depth. [nl]\n It was for long anticipated that the h
 adal zone was derived of life\, but recent investigations with sophistica
 ted autonomous instrumentation have documented that hadal trenches are de
 pocenters for organic material and act as hot spots for unexplored microb
 ial life that flourish at extreme hydrostatic pressure. Trenches environm
 ents also appear to be surprisingly divers and dynamic and to play a quan
 titatively important role for deep ocean carbon cycling and climate feedb
 acks. [nl]\nThe presentation will show how life and processes in the deep
  trenches are investigated\, discuss the newest hadal findings and the im
 portance of the hadal realm for the function of the global ocean.\n\n[nl]
 \n[nl]\n\n[i] The lecture takes place in DIAS' seminar room\, Fioniavej 3
 4\, Odense campus\, and is open for everyone [/i]
DTEND:20221130T111500Z
DTSTAMP:20260424T225426Z
DTSTART:20221130T101500Z
LOCATION:Syddansk Universitet\, Fioniavej 34\, 5230\, Odense M
SEQUENCE:0
SUMMARY:Life and element cycling in the deepest oceanic trenches on Earth
UID:97dfcdcd-9b66-4a2e-8db7-98ad4e21a092
END:VEVENT
END:VCALENDAR
