BEGIN:VCALENDAR
CALSCALE:GREGORIAN
METHOD:PUBLISH
PRODID:-//github.com/rianjs/ical.net//NONSGML ical.net 4.0//EN
VERSION:2.0
X-FROM-URL:https://eom.sdu.dk/events/ical/82329e2e-965d-4589-9e27-3e85ca45
 ba77
X-WR-CALNAME:Panel debate with SDU's Honorary Doctors of 2025: Academic Fr
 eedom in Flux - Navigating Research\, Responsibility\, and Public Trust i
 n Transformative Times
BEGIN:VTIMEZONE
TZID:Europe/Copenhagen
X-LIC-LOCATION:Europe/Copenhagen
BEGIN:DAYLIGHT
DTSTAMP:20260422T202836Z
DTSTART:20261028T030000
SEQUENCE:0
TZNAME:CEST
TZOFFSETFROM:+0200
TZOFFSETTO:+0100
UID:ab3191b0-4309-4fbc-8852-eaa2ee07a4d7
END:DAYLIGHT
BEGIN:STANDARD
DTSTAMP:20260422T202836Z
DTSTART:20260325T020000
SEQUENCE:0
TZNAME:CEST
TZOFFSETFROM:+0100
TZOFFSETTO:+0200
UID:31a7530c-8f53-493e-8cf6-9b4ce3ec2c02
END:STANDARD
END:VTIMEZONE
BEGIN:VEVENT
DESCRIPTION:Academic freedom is a cornerstone of democratic societies\, en
 abling scholars to pursue knowledge without fear of censorship or politic
 al interference. Yet\, in today’s polarized world\, the lines between fre
 edom of speech and freedom of research are being tested like never before
 .\n\nAt the same time\, the European research funding landscape has under
 gone a profound transformation. Universities now find themselves navigati
 ng complex terrain: public backlash against controversial findings\, inte
 rnal debates about the limits of expression\, and the growing emphasis on
  impact and innovation from funding bodies like the European Research Cou
 ncil (ERC).\n\nAs Europe strives to close the ‘innovation gap’ and boost 
 global competitiveness\, how do we ensure that academic freedom remains p
 rotected and meaningful?\n\nThis panel debate will examine the evolving r
 elationship between academic freedom and societal responsibility\, explor
 ing questions like:\n[list]\n[*]What distinguishes freedom of research fr
 om freedom of speech\, and where do they overlap?\n[*]How can researchers
  at all career stages navigate a funding environment increasingly focused
  on deliverables?\n[*]What should institutions do when research challenge
 s dominant narratives or provokes public controversy?\n[*]How can academi
 c discourse remain both free and ethically grounded?\n[/list]\nJoin us fo
 r a thought-provoking discussion where DIAS Chairs and SDU’s Honorary Doc
 tors of 2025 will delve into the numerous dimensions of academic freedom.
 \n\n[b]Moderators[/b]\nChristine Stabell Benn\, Professor at the Departme
 nt of Clinical Research and DIAS Chair of Health Sciences.\nJulius Koschn
 ick\, Assistant Professor at the Department of Economics and DIAS Fellow 
 of Business and Social Sciences.\n\n[b]When and where[/b]\nThursday 30 Oc
 tober \n15.00-16.30 - followed by a reception\nDIAS Auditorium\, SDU Oden
 se \n\n[b]Limited seating - registration required[/b]\n[url=https://event
 .sdu.dk/honorarydoctorpaneldebateatdias2025]Sign up here by 21 October[/u
 rl]
DTEND:20251030T153000Z
DTSTAMP:20260422T202836Z
DTSTART:20251030T140000Z
LOCATION:DIAS Auditorium\, SDU\, Fioniavej 34\, 5230\, Odense M
SEQUENCE:0
SUMMARY:Panel debate with SDU's Honorary Doctors of 2025: Academic Freedom
  in Flux - Navigating Research\, Responsibility\, and Public Trust in Tra
 nsformative Times
UID:5ecadf3c-3582-43da-a2ca-7239bef496e8
END:VEVENT
END:VCALENDAR
