BEGIN:VCALENDAR
CALSCALE:GREGORIAN
METHOD:PUBLISH
PRODID:-//github.com/rianjs/ical.net//NONSGML ical.net 4.0//EN
VERSION:2.0
X-FROM-URL:https://eom.sdu.dk/events/ical/7f67abc6-5166-4ad6-b2fd-c84c724b
 eaee
X-WR-CALNAME:Aqua-Nbs kickoff event
BEGIN:VTIMEZONE
TZID:Europe/Copenhagen
X-LIC-LOCATION:Europe/Copenhagen
BEGIN:DAYLIGHT
DTSTAMP:20260422T052104Z
DTSTART:20261028T030000
SEQUENCE:0
TZNAME:CEST
TZOFFSETFROM:+0200
TZOFFSETTO:+0100
UID:f13ea0db-6974-4fa4-9c4c-b6ced4e3161d
END:DAYLIGHT
BEGIN:STANDARD
DTSTAMP:20260422T052104Z
DTSTART:20260325T020000
SEQUENCE:0
TZNAME:CEST
TZOFFSETFROM:+0100
TZOFFSETTO:+0200
UID:e110126e-42ad-47cd-b387-6ffdba2136ad
END:STANDARD
END:VTIMEZONE
BEGIN:VEVENT
DESCRIPTION:The Elite Centre of Aquatic Nature-based Solutions for climate
  change adaptation and mitigation (Aqua-NbS) aims to scale up and integra
 te approaches of Aquatic Nature-based Solutions to expand the provision o
 f multiple ecosystem services\, including carbon storage\, climate regula
 tion\, water filtration\, coastal protection\, and food-web support. We a
 pply cross-disciplinary approaches that span the full land-sea continuum 
 and incorporate a comprehensive range of technological\, institutional\, 
 and socio-economic settings. Aqua-NbS will investigate aquatic habitats a
 nd their valuable ecosystem services to craft inclusive\, detailed guidel
 ines on cost-effective opportunities and addressing the challenges in ups
 caling aquatic NbS.[nl] [nl] \n\nSee the full programme here: https://www
 .sdu.dk/en/forskning/aqua-nbs/news. [nl] [nl]  \n\nA link and password to
  the online-event will be sent just before the event. [nl][nl]
DTEND:20230328T123000Z
DTSTAMP:20260422T052104Z
DTSTART:20230328T110000Z
LOCATION:Syddansk Universitet\, DIAS Auditoriet\, Fioniavej 34\, 5230\, Od
 ense M
SEQUENCE:0
SUMMARY:Aqua-Nbs kickoff event
UID:245d64f9-b8ca-4b7c-8bd8-2167a41ebf3f
END:VEVENT
END:VCALENDAR
