BEGIN:VCALENDAR
CALSCALE:GREGORIAN
METHOD:PUBLISH
PRODID:-//github.com/rianjs/ical.net//NONSGML ical.net 4.0//EN
VERSION:2.0
X-FROM-URL:https://eom.sdu.dk/events/ical/7ddf4eb8-23ee-41f4-bf28-df59ee65
 ced8
X-WR-CALNAME:DIAS X SCC Wednesday lecture: Professor Bron Taylor - Spiritu
 ality & the Climate Crisis:
BEGIN:VTIMEZONE
TZID:Europe/Copenhagen
X-LIC-LOCATION:Europe/Copenhagen
BEGIN:DAYLIGHT
DTSTAMP:20260421T132955Z
DTSTART:20261028T030000
SEQUENCE:0
TZNAME:CEST
TZOFFSETFROM:+0200
TZOFFSETTO:+0100
UID:fc10fd04-0c50-4216-8c7c-0182258e7a7d
END:DAYLIGHT
BEGIN:STANDARD
DTSTAMP:20260421T132955Z
DTSTART:20260325T020000
SEQUENCE:0
TZNAME:CEST
TZOFFSETFROM:+0100
TZOFFSETTO:+0200
UID:5257c32e-e566-4dcf-8c23-945830f5f2bb
END:STANDARD
END:VTIMEZONE
BEGIN:VEVENT
DESCRIPTION:[b]  Guest lecture by Bron Taylor\, Professor of Religion\, Na
 ture and Environmental Ethics at The University of Florida [/b] \n[nl][nl
 ] \nSpirituality & the Climate Crisis: Assessing environmental behavior f
 rom the world's predominant religions to ‘Dark Green Religion’[nl][nl] \n
 Negative\, anthropogenic climate change has been accelerating – harming h
 umans\, disrupting the climate system\, eroding biodiversity\, and some a
 ver\, portending an apocalyptic end of the world. \n[nl][nl]\nSome schola
 rs blame religions\, or some of them\, for promoting environmentally dest
 ructive attitudes and behaviors. Others aver that religions are beginning
  to\, or might\, come to the environmental rescue. Still others contend t
 hat indigenous traditions\, or secular worldviews\, or newly invented for
 ms of religious naturalism\, provide proenvironmental alternatives that\,
  especially if they continue to gain cultural traction\, could precipitat
 e the cultural transformations necessary to avert the collapse of today’s
  socioecological systems (including civilization as we know it).\n[nl][nl
 ]\nDrawing on a comprehensive review of extant research and my research e
 xploring contemporary nature spiritualities\, I will analyze the extant d
 ata and trends and conclude by speculating on the future of religion and 
 nature\, near\, medium\, and long-term.\n[nl][nl]\n[b] About: [/b] [nl]\n
 \nBron Taylor is an interdisciplinary environmental studies scholar whose
  research and writing explores\, through the lenses of the sciences and h
 umanities\, the complex relationships between religion\, ecology\, ethics
 \, and the quest for sustainability. \n[nl][nl]\nHis books include Dark G
 reen Religion: Nature Spirituality and the Planetary Future (2010)\, Avat
 ar and Nature Spirituality (2013)\, and Ecological Resistance Movements (
 1995). \n[nl][nl]\nHe is also editor of the Encyclopedia of Religion and 
 Nature (2005) and the Journal for the Study of Religion\, Nature and Cult
 ure. \n[nl][nl]\nTaylor is Professor of Religion and Nature at the Univer
 sity of Florida and a Fellow of the Rachel Carson Center for Environment 
 and Society in Munich\, Germany\, and at the Leibniz Institut für Europäi
 sche Geschichte\, Mainz\, Germany. In 2017 he was recognized with a Lifet
 ime Achievement award by the International Society for the Study of Relig
 ion\, Nature\, and Culture. \n[nl][nl] See also [url=https://www.brontayl
 or.com]www.brontaylor.com[/url] [nl][nl]\n\nThe lecture takes place in th
 e DIAS Auditorium\, Fioniavej 34. Everybody is welcome and no registratio
 n is needed. \n\n[nl][nl] \n\n[i] Live stream it at [url=https://youtube.
 com/@danishias]youtube.com/@danish-ias[/url]  [/i] \n\n[nl][nl] \nThe lec
 ture is a collaboration between the Danish Institute for Advanced Study\,
  SDU Climate Cluster\, and the Environmental Humanities Network\, The Stu
 dy of Religion\, the Department of Language\, Culture\, History and Commu
 nication\, the Department of Business and Management.[nl][nl]
DTEND:20230322T111500Z
DTSTAMP:20260421T132955Z
DTSTART:20230322T101500Z
LOCATION:Syddansk Universitet\, Fioniavej 34\, 5230\, Odense M
SEQUENCE:0
SUMMARY:DIAS X SCC Wednesday lecture: Professor Bron Taylor - Spirituality
  & the Climate Crisis:
UID:1a13585d-8b8b-42d8-ae12-ad8c18d52659
END:VEVENT
END:VCALENDAR
