BEGIN:VCALENDAR
CALSCALE:GREGORIAN
METHOD:PUBLISH
PRODID:-//github.com/rianjs/ical.net//NONSGML ical.net 4.0//EN
VERSION:2.0
X-FROM-URL:https://eom.sdu.dk/events/ical/7cb43611-9cb2-494b-a58e-17148833
 228b
X-WR-CALNAME:Online Masterclass on Sapere Aude: DFF-Starting Grant
BEGIN:VTIMEZONE
TZID:Europe/Copenhagen
X-LIC-LOCATION:Europe/Copenhagen
BEGIN:DAYLIGHT
DTSTAMP:20260422T212630Z
DTSTART:20261028T030000
SEQUENCE:0
TZNAME:CEST
TZOFFSETFROM:+0200
TZOFFSETTO:+0100
UID:e0ae38c9-4cc9-4ed2-a416-860e8834f710
END:DAYLIGHT
BEGIN:STANDARD
DTSTAMP:20260422T212630Z
DTSTART:20260325T020000
SEQUENCE:0
TZNAME:CEST
TZOFFSETFROM:+0100
TZOFFSETTO:+0200
UID:d84160a6-f542-4e6c-aeb9-3771b85c2968
END:STANDARD
END:VTIMEZONE
BEGIN:VEVENT
DESCRIPTION:The main purpose of this masterclass is to help you determine 
 whether applying for the Sapere Aude programme is the right step for you 
 and to inspire you with valuable insights from successful Sapere Aude app
 licants from SDU.\n\nThe masterclass offers a thorough introduction to th
 e programme\, including its objectives\, eligibility criteria\, and the a
 pplication process. Furthermore\, we have invitede three previous grantee
 s to share their insights and lessons learned during the application proc
 ess.\n\nAt the end\, we will provide you with the necessary information a
 bout the support opportunities in relation to this specific programme and
  there will also be time for questions.\n\nContact your local research su
 pport unit to learn more and receive a link to the masterclass:\n\nFacult
 y of Business and Social Sciences: Bjarke Skærlund Risager (bjarkesr@sam.
 sdu.dk) \nFaculty of Engineering: Caroline Brothmann Heindahl (heindahl@t
 ek.sdu.dk) \nFaculty of Health Sciences: Simone Rørdam-Preil (sirp@health
 .sdu.dk) \nFaculty of Humanities: Troels Obbekær (trobbe@sdu.dk) \nFacult
 y of Science: Marie Grimstrup (marg@sdu.dk)
DTEND:20250428T100000Z
DTSTAMP:20260422T212630Z
DTSTART:20250428T070000Z
SEQUENCE:0
SUMMARY:Online Masterclass on Sapere Aude: DFF-Starting Grant
UID:30c93a88-5895-42b1-831b-67c285fc567e
END:VEVENT
END:VCALENDAR
