BEGIN:VCALENDAR
CALSCALE:GREGORIAN
METHOD:PUBLISH
PRODID:-//github.com/rianjs/ical.net//NONSGML ical.net 4.0//EN
VERSION:2.0
X-FROM-URL:https://eom.sdu.dk/events/ical/7acd2eb1-0bbe-4f0d-a8aa-35c93c4f
 6317
X-WR-CALNAME:Capitalism Thursdays: Capitalism in the Nordic Countries: Dif
 ferent Institutional Paths
BEGIN:VTIMEZONE
TZID:Europe/Copenhagen
X-LIC-LOCATION:Europe/Copenhagen
BEGIN:DAYLIGHT
DTSTAMP:20260421T140617Z
DTSTART:20261028T030000
SEQUENCE:0
TZNAME:CEST
TZOFFSETFROM:+0200
TZOFFSETTO:+0100
UID:1df563c6-96f3-4af1-8c58-9e55c7d69bb7
END:DAYLIGHT
BEGIN:STANDARD
DTSTAMP:20260421T140617Z
DTSTART:20260325T020000
SEQUENCE:0
TZNAME:CEST
TZOFFSETFROM:+0100
TZOFFSETTO:+0200
UID:5c8ddec3-bf13-4b25-a2e5-8890292e4099
END:STANDARD
END:VTIMEZONE
BEGIN:VEVENT
DESCRIPTION:TBA
DTEND:20261119T140000Z
DTSTAMP:20260421T140617Z
DTSTART:20261119T120000Z
LOCATION:DIAS Seminarrum\, Fioniavej 34\, 5230\, Odense M
SEQUENCE:0
SUMMARY:Capitalism Thursdays: Capitalism in the Nordic Countries: Differen
 t Institutional Paths
UID:35c6aaf7-67c9-4bf9-ae68-994a0aeb1c65
END:VEVENT
END:VCALENDAR
