BEGIN:VCALENDAR
CALSCALE:GREGORIAN
METHOD:PUBLISH
PRODID:-//github.com/rianjs/ical.net//NONSGML ical.net 4.0//EN
VERSION:2.0
X-FROM-URL:https://eom.sdu.dk/events/ical/789c0afe-7e8d-4b51-a7e2-c578d434
 cb96
X-WR-CALNAME:Guest lecture by Professor Zhipei Sun
BEGIN:VTIMEZONE
TZID:Europe/Copenhagen
X-LIC-LOCATION:Europe/Copenhagen
BEGIN:DAYLIGHT
DTSTAMP:20260421T083015Z
DTSTART:20261028T030000
SEQUENCE:0
TZNAME:CEST
TZOFFSETFROM:+0200
TZOFFSETTO:+0100
UID:445f49b1-8457-429e-b8b8-b25759c3a9d5
END:DAYLIGHT
BEGIN:STANDARD
DTSTAMP:20260421T083015Z
DTSTART:20260325T020000
SEQUENCE:0
TZNAME:CEST
TZOFFSETFROM:+0100
TZOFFSETTO:+0200
UID:c37499ec-db16-40b7-8a34-4826f4631224
END:STANDARD
END:VTIMEZONE
BEGIN:VEVENT
DESCRIPTION:[b] Title of presentation: [/b] '2D Materials for Grand Photon
 ic Challenges' [nl][nl] [b] Location: [/b] U177 [nl][nl] [b]Abstract: [/b
 ] [nl][nl] Professor Zhipei Sun will present a few examples of his effort
 s using 2D materials to address the current grand challenges in photonics
 \, such as high-performance lasers and quantum sources\, ultrafast modula
 tors\, and miniaturized spectrometers. He will also introduce recent resu
 lts of employing hybrid structures\, such as mixed-dimensional heterostru
 ctures\, moiré structures\, plasmonic structures\, and silicon/fibre wave
 guides integrated structures. [nl][nl] [b]Bio: [/b] [nl][nl] Zhipei Sun i
 s Professor of Photonics and the head of the Photonics Research Group at 
 the Department of Electronics and Nanoengineering of Aalto University\, F
 inland. He earned his PhD from the Institute of Physics\, Chinese Academy
  of Sciences\, in 2005. Currently\, he is actively involved with the Euro
 pean research council advanced grant\, European quantum flagship\, Academ
 y of Finland Photonics Flagship\, and Academy of Finland Centre of Excell
 ence on quantum technology. His research interests include nonlinear opti
 cs\, nanophotonics\, and ultrafast photonics. He presently focuses on car
 bon nanotubes\, graphene\, and other 2D materials for photonics and optoe
 lectronics.
DTEND:20230413T143000Z
DTSTAMP:20260421T083015Z
DTSTART:20230413T131500Z
LOCATION:Syddansk Universitet\, Campusvej 55\, 5230\, Odense M
SEQUENCE:0
SUMMARY:Guest lecture by Professor Zhipei Sun
UID:f205bf7f-37f6-4114-9c38-df82a8121bf8
END:VEVENT
END:VCALENDAR
