BEGIN:VCALENDAR
CALSCALE:GREGORIAN
METHOD:PUBLISH
PRODID:-//github.com/rianjs/ical.net//NONSGML ical.net 4.0//EN
VERSION:2.0
X-FROM-URL:https://eom.sdu.dk/events/ical/69e15a6b-c99e-4c1d-aea6-b40f608b
 dd5e
X-WR-CALNAME:Workshop: Webdag i Kolding
BEGIN:VTIMEZONE
TZID:Europe/Copenhagen
X-LIC-LOCATION:Europe/Copenhagen
BEGIN:DAYLIGHT
DTSTAMP:20260421T164236Z
DTSTART:20261028T030000
SEQUENCE:0
TZNAME:CEST
TZOFFSETFROM:+0200
TZOFFSETTO:+0100
UID:75d8fdaa-7d50-402e-9cfb-95fe4d117927
END:DAYLIGHT
BEGIN:STANDARD
DTSTAMP:20260421T164236Z
DTSTART:20260325T020000
SEQUENCE:0
TZNAME:CEST
TZOFFSETFROM:+0100
TZOFFSETTO:+0200
UID:15e47437-b49a-4395-a350-4a557392b670
END:STANDARD
END:VTIMEZONE
BEGIN:VEVENT
DESCRIPTION:Kurset foregår som en workshopdag med mulighed for at komme me
 d emner\, som du ønsker gennemgået. Der bliver ligeledes mulighed for at 
 arbejde med egne sider og få hjælp og inspiration til dette fra undervise
 rne og de andre webredaktører.
DTEND:20240409T130000Z
DTSTAMP:20260421T164236Z
DTSTART:20240409T070000Z
LOCATION:Syddansk Universitet\, Universitetsparken 1\, 6000\, Kolding
SEQUENCE:0
SUMMARY:Workshop: Webdag i Kolding
UID:5345c7ee-92d4-40ba-a391-45576e4f6ddb
END:VEVENT
END:VCALENDAR
