BEGIN:VCALENDAR
CALSCALE:GREGORIAN
METHOD:PUBLISH
PRODID:-//github.com/rianjs/ical.net//NONSGML ical.net 4.0//EN
VERSION:2.0
X-FROM-URL:https://eom.sdu.dk/events/ical/6595d2e3-3a49-4a66-b268-9b4ab22d
 8fb1
X-WR-CALNAME:QM Research Seminar: Dense generation for Fukaya category ove
 r Novikov ring
BEGIN:VTIMEZONE
TZID:Europe/Copenhagen
X-LIC-LOCATION:Europe/Copenhagen
BEGIN:DAYLIGHT
DTSTAMP:20260420T061629Z
DTSTART:20261028T030000
SEQUENCE:0
TZNAME:CEST
TZOFFSETFROM:+0200
TZOFFSETTO:+0100
UID:0508534b-26fa-4766-bbe0-2d582e4eabdc
END:DAYLIGHT
BEGIN:STANDARD
DTSTAMP:20260420T061629Z
DTSTART:20260325T020000
SEQUENCE:0
TZNAME:CEST
TZOFFSETFROM:+0100
TZOFFSETTO:+0200
UID:f849844c-7144-4170-baae-0c59c74a0f51
END:STANDARD
END:VTIMEZONE
BEGIN:VEVENT
DESCRIPTION:[b]Speaker: Bingyu Zhang [/b](​University of Southern Denmark)
 \n\n[b]Abstract:[/b]\nGeneration is a key concept for understanding the s
 tructure of Fukaya category over Novikov field. However\, over Novikov ri
 ng\, this concept loses effectiveness: Over Novikov ring\, two objects ar
 e equivalent in Fukaya category if and only if they are geometrically the
  same. To resolve the issue\, we shall reformulate the notion of generati
 on in terms of the density of certain objects in terms of the interleavin
 g distance. Then we explain the density of the cotangent fiber in the Fuk
 aya category using the sheaf quantization method. This is a joint work wi
 th Stephane Guillermou and Claude Viterbo.
DTEND:20260309T150000Z
DTSTAMP:20260420T061629Z
DTSTART:20260309T140000Z
LOCATION:Syddansk Universitet\, Campusvej 55\, 5230\, Odense M
SEQUENCE:0
SUMMARY:QM Research Seminar: Dense generation for Fukaya category over Nov
 ikov ring
UID:da4a6a2c-ccd2-4208-9399-1db3eba674da
END:VEVENT
END:VCALENDAR
