BEGIN:VCALENDAR
CALSCALE:GREGORIAN
METHOD:PUBLISH
PRODID:-//github.com/rianjs/ical.net//NONSGML ical.net 4.0//EN
VERSION:2.0
X-FROM-URL:https://eom.sdu.dk/events/ical/650821bd-8471-4346-a581-9cf08e57
 3ad1
X-WR-CALNAME:Kaare Christensen: Why do we age so differently?
BEGIN:VTIMEZONE
TZID:Europe/Copenhagen
X-LIC-LOCATION:Europe/Copenhagen
BEGIN:DAYLIGHT
DTSTAMP:20260421T111045Z
DTSTART:20261028T030000
SEQUENCE:0
TZNAME:CEST
TZOFFSETFROM:+0200
TZOFFSETTO:+0100
UID:69d07569-6f35-4191-9466-088f867e8088
END:DAYLIGHT
BEGIN:STANDARD
DTSTAMP:20260421T111045Z
DTSTART:20260325T020000
SEQUENCE:0
TZNAME:CEST
TZOFFSETFROM:+0100
TZOFFSETTO:+0200
UID:7f443589-15a6-49ed-90cc-2b8ba4192824
END:STANDARD
END:VTIMEZONE
BEGIN:VEVENT
DESCRIPTION:[b] DIAS lecture [/b] [nl] \n\n[b]Abstract [/b] [nl]\nOver the
  last many generations\, there has been remarkable progress in human life
 span and health. \nHowever\, these trends overlook great variability in t
 he aging process within generations. What drives \nthese differences acro
 ss and within generations? What are the roles of socioeconomic conditions
 \, \nenvironmental factors\, genetics\, family environment\, and chance? 
 This talk will summarize insights \nobtained from a series of Danish stud
 ies of twins\, the very old\, and longevity-enriched families. [nl] [nl]\
 n\n\n[b]About Kaare Christensen [/b] [nl]\nProfessor Kaare Christensen\, 
 MD\, PhD\, DMSc\, is the Head of Research at the unit for Epidemiology\, 
 Biostatistics and Biodemography (EBB) at the Department of Public Health 
 at SDU. [nl] [nl]\n\nProfessor Kaare Christensen is a medical doctor (198
 7). He has a PhD degree (1994) from Odense University and a Doctor of Med
 ical Sciences degree (1999) from University of Southern Denmark. He has\,
  for more than a decade\, been Director of both the Danish Twin Registry 
 and The Danish Aging Research Center and has acted as co-PI for the US NI
 H-funded research program Long Life Family Study. [nl] [nl]\n[i]This lect
 ure will be held at O-DIAS Seminarrum and can be viewed on our [url=https
 ://www.youtube.com/channel/UCuUBO2_ERXDj9apfMpPBVLw]Youtube channel[/url]
  the following week[/i] [nl] [nl]
DTEND:20220601T101500Z
DTSTAMP:20260421T111045Z
DTSTART:20220601T091500Z
LOCATION:Syddansk Universitet\, Campusvej 55\, 5230\, Odense M
SEQUENCE:0
SUMMARY:Kaare Christensen: Why do we age so differently?
UID:d3592218-1647-4e84-9e3f-f4b1ceadd6db
END:VEVENT
END:VCALENDAR
