BEGIN:VCALENDAR
CALSCALE:GREGORIAN
METHOD:PUBLISH
PRODID:-//github.com/rianjs/ical.net//NONSGML ical.net 4.0//EN
VERSION:2.0
X-FROM-URL:https://eom.sdu.dk/events/ical/64d3b6ce-62b1-4f20-8d98-dd8e429b
 8a7d
X-WR-CALNAME:DIAS Wild Wednesday: One World\, One Science?
BEGIN:VTIMEZONE
TZID:Europe/Copenhagen
X-LIC-LOCATION:Europe/Copenhagen
BEGIN:DAYLIGHT
DTSTAMP:20260419T231155Z
DTSTART:20261028T030000
SEQUENCE:0
TZNAME:CEST
TZOFFSETFROM:+0200
TZOFFSETTO:+0100
UID:bf6b0b5d-cce6-4725-959d-50e85d1c12c1
END:DAYLIGHT
BEGIN:STANDARD
DTSTAMP:20260419T231155Z
DTSTART:20260325T020000
SEQUENCE:0
TZNAME:CEST
TZOFFSETFROM:+0100
TZOFFSETTO:+0200
UID:07c434f7-9077-458c-888b-29a1a6240c02
END:STANDARD
END:VTIMEZONE
BEGIN:VEVENT
DESCRIPTION:[i]A panel game curated by Søren Askegaard featuring Karl Atta
 rd\, Maria Timofeeva\, Pat Treusch\, and Joel Cox[/i]\n\nJoin us for a Wi
 ld Wednesday that promises both depth and delight\, as we dive into the p
 layful yet profound world of radical transdisciplinarity- and explore wha
 t happens when human insight meets artificial intelligence.\n\nWe’ll begi
 n with a brief introduction to Edgar Morin\, Dr.h.c. at Odense University
  (1994)\, a passionate critic of disciplinary silos and affectionately kn
 own in French social theory as “the unclassifiable.” Morin’s work challen
 ges conventional boundaries\, and this evening we take up that challenge.
 \n\nOur transdisciplinary panel has read Morin’s evocative text “The Spir
 it of the Valley"\, a piece rich with Taoist undertones\, and responded b
 y co-creating an AI-generated poem. This poetic experiment explores the c
 onnections\, contrasts\, and resonances between their own fields and Mori
 n’s ideas.\n\nFrom this creative starting point\, we invite you to reflec
 t with us:\n[list]\n[*]What are the possibilities and pitfalls of transdi
 sciplinary thinking?\n[*]How does AI help - or hinder- our efforts to thi
 nk beyond boundaries?\n[/list]\nExpect lively conversation\, unexpected i
 nsights\, and a celebration of curiosity across disciplines.\n\n[i]This W
 ild Wednesday is open for all and requires no registration.[/i]
DTEND:20250917T101500Z
DTSTAMP:20260419T231155Z
DTSTART:20250917T091500Z
LOCATION:DIAS Auditorium\, Danish Institute for Advanced Study\, Fioniavej
  34\, 5230\, Odense M
SEQUENCE:0
SUMMARY:DIAS Wild Wednesday: One World\, One Science?
UID:95f982c7-9072-435e-95f9-38abaa5b9ed6
END:VEVENT
END:VCALENDAR
