BEGIN:VCALENDAR
CALSCALE:GREGORIAN
METHOD:PUBLISH
PRODID:-//github.com/rianjs/ical.net//NONSGML ical.net 4.0//EN
VERSION:2.0
X-FROM-URL:https://eom.sdu.dk/events/ical/6420d5b1-7e97-47bc-9c10-44c47cfe
 8f5b
X-WR-CALNAME:DIAS Event: At the Limit: Existential Media\, Relational Selv
 es and Technological Futures by Amanda Lagerkvist
BEGIN:VTIMEZONE
TZID:Europe/Copenhagen
X-LIC-LOCATION:Europe/Copenhagen
BEGIN:DAYLIGHT
DTSTAMP:20260424T140551Z
DTSTART:20261028T030000
SEQUENCE:0
TZNAME:CEST
TZOFFSETFROM:+0200
TZOFFSETTO:+0100
UID:f9f10c45-cbfc-492c-8c4a-8a9c52d15321
END:DAYLIGHT
BEGIN:STANDARD
DTSTAMP:20260424T140551Z
DTSTART:20260325T020000
SEQUENCE:0
TZNAME:CEST
TZOFFSETFROM:+0100
TZOFFSETTO:+0200
UID:cd6e8106-8558-4dfd-a03c-d75d416c8c00
END:STANDARD
END:VTIMEZONE
BEGIN:VEVENT
DESCRIPTION:“Philosophizing\,” argued the existential philosopher\, Karl J
 aspers (1932) “starts with our situation”. This lecture introduces key co
 ncepts\, frameworks and figurations in existential media studies by setti
 ng out from a moment of interrelated crises in which advanced technologie
 s such as “AI” ([i]artificial intelligence[/i]) are hailed as the inevita
 ble solution to all of humanity’s problems. In the digital limit situatio
 n (Lagerkvist 2020\, 2022)—as the technology is entrusted to be salvaging
  us or feared to outperform and render us extinct—“the self” is simultane
 ously encroached from all sides. In a curious way\, new “subjects” are me
 anwhile envisioned to be born inside the models. This raises a series of 
 pressing questions: What conceptions of the self are actually being forge
 d within this powerful socio-technical imaginary? What norms for being hu
 man in the world do advanced technologies bring about\, challenge or reac
 tivate? And how can we envision selves and technologies relationally as w
 ell as within limits\, for promoting an existentially sustainable future 
 with machines? \n\n[b]About Amanda Lagerkvist[/b]\nAmanda Lagerkvist is P
 rofessor of media and communication studies\, PI of the [url=https://eur0
 3.safelinks.protection.outlook.com/?url=https%3A%2F%2Fwww.uu.se%2Fen%2Fde
 partment%2Finformatics-and-media%2Fresearch%2Fuppsala-informatics-and-med
 ia-hub-for-digital-existence&data=05%7C02%7CPalsdottir%40sdu.dk%7Cf9361bb
 a2c1748ba41aa08dd7ca66662%7C9a97c27db83e4694b35354bdbf18ab5b%7C0%7C0%7C63
 8803776344985903%7CUnknown%7CTWFpbGZsb3d8eyJFbXB0eU1hcGkiOnRydWUsIlYiOiIw
 LjAuMDAwMCIsIlAiOiJXaW4zMiIsIkFOIjoiTWFpbCIsIldUIjoyfQ%3D%3D%7C0%7C%7C%7C
 &sdata=1M5GljY62opQv2jzayX1Of2hDAsQpeOWDD0A2goknMU%3D&reserved=0]Uppsala 
 Hub for Digital Existence [/url]and guest researcher at the [url=https://
 eur03.safelinks.protection.outlook.com/?url=https%3A%2F%2Fwww.uu.se%2Fen%
 2Fcentre%2Fcrs&data=05%7C02%7CPalsdottir%40sdu.dk%7Cf9361bba2c1748ba41aa0
 8dd7ca66662%7C9a97c27db83e4694b35354bdbf18ab5b%7C0%7C0%7C6388037763449990
 56%7CUnknown%7CTWFpbGZsb3d8eyJFbXB0eU1hcGkiOnRydWUsIlYiOiIwLjAuMDAwMCIsIl
 AiOiJXaW4zMiIsIkFOIjoiTWFpbCIsIldUIjoyfQ%3D%3D%7C0%7C%7C%7C&sdata=QLHUdHp
 l8%2BvSq0G3B8YhlqXcSMn6pa1%2FOGar%2FbmhTIw%3D&reserved=0]Centre for Multi
 disciplinary Research on Religion and Society (CRS) [/url] at Uppsala Uni
 versity. She has been appointed Core Fellow at the Helsinki Collegium for
  Advanced Study\, The University of Helsinki\, for the academic year of 2
 025-2026. As Wallenberg Academy Fellow (2014-2018) she founded the young 
 field of existential media studies. Her work has spanned the existential 
 dimensions of digital memories\, death online and lifeworlds of biometric
 s. She currently explores intersections of datafication\, disability and 
 selfhood\; and the ambivalent AI imaginary and its relationship to both f
 utures and endings (with funding from the Bank of Sweden and WASP-HS). In
  her monograph [i]Existential Media: A Media Theory of the Limit Situatio
 n [/i](OUP\, 2022) she introduces Karl Jaspers’ existential philosophy of
  limit situations for media theory. She is the co-editor of [i]Relational
  Technologies: In Search of the Self Across Datafied Lifeworlds[/i] with 
 Dr. Jacek Smolicki (Bloomsbury\, Thinking/Media Series) and she is curren
 tly under contract for her new monograph [i]Dismedia: Technologies of the
  Extraordinary Self[/i] with The University of Michigan Press.\n\n[b]Venu
 e[/b]\nThe DIAS Auditorium\, SDU Campus Odense\n\n[i]This event is open f
 or all. No registration needed.[/i]
DTEND:20250903T101500Z
DTSTAMP:20260424T140551Z
DTSTART:20250903T091500Z
LOCATION:Syddansk Universitet\, Fioniavej 34\, 5230\, Odense M
SEQUENCE:0
SUMMARY:DIAS Event: At the Limit: Existential Media\, Relational Selves an
 d Technological Futures by Amanda Lagerkvist
UID:5de71048-0214-4231-ae3d-746e44d65491
END:VEVENT
END:VCALENDAR
