BEGIN:VCALENDAR
CALSCALE:GREGORIAN
METHOD:PUBLISH
PRODID:-//github.com/rianjs/ical.net//NONSGML ical.net 4.0//EN
VERSION:2.0
X-FROM-URL:https://eom.sdu.dk/events/ical/6296445c-4cc4-416d-8fe3-4bc4da6a
 9019
X-WR-CALNAME:DIAS Wild Wednesday: In a Time of Division: Polarization in D
 enmark and the Nordic Region
BEGIN:VTIMEZONE
TZID:Europe/Copenhagen
X-LIC-LOCATION:Europe/Copenhagen
BEGIN:DAYLIGHT
DTSTAMP:20260421T140607Z
DTSTART:20261028T030000
SEQUENCE:0
TZNAME:CEST
TZOFFSETFROM:+0200
TZOFFSETTO:+0100
UID:d76afcb9-aa46-42bc-b53c-73eaae008db1
END:DAYLIGHT
BEGIN:STANDARD
DTSTAMP:20260421T140607Z
DTSTART:20260325T020000
SEQUENCE:0
TZNAME:CEST
TZOFFSETFROM:+0100
TZOFFSETTO:+0200
UID:ab8b0d15-63a8-44c2-a848-8ddea1670ea5
END:STANDARD
END:VTIMEZONE
BEGIN:VEVENT
DESCRIPTION:Polarization is one of the major challenges internationally. B
 ut what does polarization look like in the Nordic countries? The Nordic w
 elfare states are built on a high degree of mutual trust\, yet affective 
 and identity-based polarization in particular can generate antipathy towa
 rd our fellow citizens\, foster conspiracy theories and hate speech\, and
 \, in the worst case\, undermine the much‑celebrated Nordic trust.In the 
 POLIS project\, we examine through an interdisciplinary humanities-based 
 approach how affective and identity-based polarization unfolds outside tr
 aditional political debate: in everyday public discourse\, on social medi
 a\, in art and culture\, and in our relationships with fellow citizens in
  Denmark and the Nordic region more broadly. This Wild Wednesday presents
  selected insights from the project and explores how polarization shapes 
 everyday aesthetics and art\, promotes public moralism\, and functions as
  a central dynamic in conspiracy theories. \n\n[b]Program[/b] \n[list]\n[
 *]Anders Engberg-Pedersen - introduction  – 10 min\n[*]Kathrin Maurer – 1
 5 min\n[*]Anne-Marie Søndergaard  – 10 min\n[*]Kasper Grotle Rasmussen  –
  10 min\n[*]Q\&A - 15 minutes\n[/list]
DTEND:20260603T101500Z
DTSTAMP:20260421T140607Z
DTSTART:20260603T091500Z
LOCATION:DIAS Auditorie\, Fioniavej 34\, 5230\, Odense M
SEQUENCE:0
SUMMARY:DIAS Wild Wednesday: In a Time of Division: Polarization in Denmar
 k and the Nordic Region
UID:d0af826a-0e31-4a55-9a87-38d8c44e798c
END:VEVENT
END:VCALENDAR
