BEGIN:VCALENDAR
CALSCALE:GREGORIAN
METHOD:PUBLISH
PRODID:-//github.com/rianjs/ical.net//NONSGML ical.net 4.0//EN
VERSION:2.0
X-FROM-URL:https://eom.sdu.dk/events/ical/5b6237b7-0cdc-4e2e-9119-046242ea
 cd73
X-WR-CALNAME:Capitalism Thursdays: Entrepreneurship
BEGIN:VTIMEZONE
TZID:Europe/Copenhagen
X-LIC-LOCATION:Europe/Copenhagen
BEGIN:DAYLIGHT
DTSTAMP:20260421T140622Z
DTSTART:20261028T030000
SEQUENCE:0
TZNAME:CEST
TZOFFSETFROM:+0200
TZOFFSETTO:+0100
UID:87f1fc16-e2dc-4efe-8594-d5032caf56a6
END:DAYLIGHT
BEGIN:STANDARD
DTSTAMP:20260421T140622Z
DTSTART:20260325T020000
SEQUENCE:0
TZNAME:CEST
TZOFFSETFROM:+0100
TZOFFSETTO:+0200
UID:3a63935f-753b-4d72-b61c-bd08c5071226
END:STANDARD
END:VTIMEZONE
BEGIN:VEVENT
DESCRIPTION:TBA
DTEND:20260910T130000Z
DTSTAMP:20260421T140622Z
DTSTART:20260910T110000Z
LOCATION:DIAS Seminarrum\, Fioniavej 34\, 5230\, Odense M
SEQUENCE:0
SUMMARY:Capitalism Thursdays: Entrepreneurship
UID:5a511b79-87dd-47cf-9784-add32be042e2
END:VEVENT
END:VCALENDAR
