BEGIN:VCALENDAR
CALSCALE:GREGORIAN
METHOD:PUBLISH
PRODID:-//github.com/rianjs/ical.net//NONSGML ical.net 4.0//EN
VERSION:2.0
X-FROM-URL:https://eom.sdu.dk/events/ical/58a5f713-2862-4f08-969b-d1261c71
 c71b
X-WR-CALNAME:QM Research Seminar: Invariants from the microlocal kernel
BEGIN:VTIMEZONE
TZID:Europe/Copenhagen
X-LIC-LOCATION:Europe/Copenhagen
BEGIN:DAYLIGHT
DTSTAMP:20260423T062345Z
DTSTART:20261028T030000
SEQUENCE:0
TZNAME:CEST
TZOFFSETFROM:+0200
TZOFFSETTO:+0100
UID:8dbff12c-beb2-4f8f-ba72-8549d015eb65
END:DAYLIGHT
BEGIN:STANDARD
DTSTAMP:20260423T062345Z
DTSTART:20260325T020000
SEQUENCE:0
TZNAME:CEST
TZOFFSETFROM:+0100
TZOFFSETTO:+0200
UID:07f6fe1e-29e0-4a7c-88a3-10ccd248158d
END:STANDARD
END:VTIMEZONE
BEGIN:VEVENT
DESCRIPTION:Seminar by [b]Bingyu Zhang[/b] (SDU\, QM) [nl]\n[b] Abstract: 
 [/b] [nl]\nTo bounded open sets in a cotangent bundle\, we can associate 
 a pair of sheaves\, the microlocal kernels\, following the idea of Tamark
 in and Chiu. Using microlocal kernels for the open set\, we can define th
 e Chiu-Tamarkin complex\, which is a cohomology invariant associated with
  the open set. In this talk\, I would like to explain the construction of
  these cohomology theories and some computations. Then I would like to ex
 plain how to construct a sequence of capacities based on the Chiu-Tamarki
 n complex.
DTEND:20221107T150000Z
DTSTAMP:20260423T062345Z
DTSTART:20221107T140000Z
LOCATION:Syddansk Universitet\, Campusvej 55\, 5230\, Odense M
SEQUENCE:0
SUMMARY:QM Research Seminar: Invariants from the microlocal kernel
UID:875145d9-a61c-4f66-8e18-f6e360e64ea4
END:VEVENT
END:VCALENDAR
