BEGIN:VCALENDAR
CALSCALE:GREGORIAN
METHOD:PUBLISH
PRODID:-//github.com/rianjs/ical.net//NONSGML ical.net 4.0//EN
VERSION:2.0
X-FROM-URL:https://eom.sdu.dk/events/ical/504d5d4a-b637-4434-af54-1182f364
 99e7
X-WR-CALNAME:Kom til Danmarks største sundhedsvidenskabelige studenterkong
 res
BEGIN:VTIMEZONE
TZID:Europe/Copenhagen
X-LIC-LOCATION:Europe/Copenhagen
BEGIN:DAYLIGHT
DTSTAMP:20260419T131154Z
DTSTART:20261028T030000
SEQUENCE:0
TZNAME:CEST
TZOFFSETFROM:+0200
TZOFFSETTO:+0100
UID:792d60c1-f6af-487e-9c88-e86b0b21d97b
END:DAYLIGHT
BEGIN:STANDARD
DTSTAMP:20260419T131154Z
DTSTART:20260325T020000
SEQUENCE:0
TZNAME:CEST
TZOFFSETFROM:+0100
TZOFFSETTO:+0200
UID:a9ddde8c-e684-4b98-ab24-f7c92717829a
END:STANDARD
END:VTIMEZONE
BEGIN:VEVENT
DESCRIPTION:Kongres for Medicinsk Studenterforskning\nsamler hvert år i ma
 rts ca. 100 studerende fra\nAarhus\, København\, Odense og Aalborg.\nKong
 ressen er dermed den største danske\nstudenterkongres inden for\nsundheds
 videnskab og life science.\n[nl]\n[nl]\nKongressen henvender sig til alle
  studerende\,\nder laver sundhedsvidenskabelig forskning ved\net dansk un
 iversitet.\n[nl]\n[nl]\nAlle prægraduate\, sundhedsvidenskabelige\nforskn
 ingsprojekter kan præsenteres ved\nKongres for Medicinsk Studenterforskni
 ng – fx\nforskningsår\, fritidsforskning\, eksperimentelle\nbachelor- ell
 er specialeopgaver og del A af\nintegrerede ph.d.-projekter (4+4 eller ka
 ndidat-ph.d.\n[nl]\n[nl]
DTEND:20240316T230000Z
DTSTAMP:20260419T131154Z
DTSTART:20240313T230000Z
LOCATION:Sandbjerg Gods\, Sandbjergvej 102\, 6400\, Sønderborg
SEQUENCE:0
SUMMARY:Kom til Danmarks største sundhedsvidenskabelige studenterkongres
UID:77e2e20f-997e-42a4-93ba-c164897811ab
END:VEVENT
END:VCALENDAR
