BEGIN:VCALENDAR
CALSCALE:GREGORIAN
METHOD:PUBLISH
PRODID:-//github.com/rianjs/ical.net//NONSGML ical.net 4.0//EN
VERSION:2.0
X-FROM-URL:https://eom.sdu.dk/events/ical/429008a8-ad26-49a9-95a1-a3f36bc9
 53be
X-WR-CALNAME:QTC Journal Club: Composite Higgs from an SU(2) gauge theory 
 with two fundamental flavors
BEGIN:VTIMEZONE
TZID:Europe/Copenhagen
X-LIC-LOCATION:Europe/Copenhagen
BEGIN:DAYLIGHT
DTSTAMP:20260424T111636Z
DTSTART:20261028T030000
SEQUENCE:0
TZNAME:CEST
TZOFFSETFROM:+0200
TZOFFSETTO:+0100
UID:345f23a3-23d0-4e3d-aa9a-e15d1c743ec7
END:DAYLIGHT
BEGIN:STANDARD
DTSTAMP:20260424T111636Z
DTSTART:20260325T020000
SEQUENCE:0
TZNAME:CEST
TZOFFSETFROM:+0100
TZOFFSETTO:+0200
UID:e5c595b8-00ef-4f5d-8989-086654451c5d
END:STANDARD
END:VTIMEZONE
BEGIN:VEVENT
DESCRIPTION:Arrangementet afholdes på engelsk. [url=https://www.sdu.dk/da/
 updates/429008a8-ad26-49a9-95a1-a3f36bc953be?sc_lang=en]Klik her[/url] fo
 r at gå til den engelske beskrivelse af arrangementet.
DTEND:20241011T110000Z
DTSTAMP:20260424T111636Z
DTSTART:20241011T093000Z
LOCATION:Syddansk Universitet\, Fioniavej 34\, 5230\, Odense M
SEQUENCE:0
SUMMARY:QTC Journal Club: Composite Higgs from an SU(2) gauge theory with 
 two fundamental flavors
UID:08a23679-3f67-4898-9ee2-c5a7314747a8
END:VEVENT
END:VCALENDAR
