BEGIN:VCALENDAR
CALSCALE:GREGORIAN
METHOD:PUBLISH
PRODID:-//github.com/rianjs/ical.net//NONSGML ical.net 4.0//EN
VERSION:2.0
X-FROM-URL:https://eom.sdu.dk/events/ical/2f335dd8-1f4b-4019-92b5-703b6d0c
 8666
X-WR-CALNAME:IRS Institutforum
BEGIN:VTIMEZONE
TZID:Europe/Copenhagen
X-LIC-LOCATION:Europe/Copenhagen
BEGIN:DAYLIGHT
DTSTAMP:20260426T041239Z
DTSTART:20261028T030000
SEQUENCE:0
TZNAME:CEST
TZOFFSETFROM:+0200
TZOFFSETTO:+0100
UID:dc09c25b-e84c-4bae-af1e-fc3cb662e31e
END:DAYLIGHT
BEGIN:STANDARD
DTSTAMP:20260426T041239Z
DTSTART:20260325T020000
SEQUENCE:0
TZNAME:CEST
TZOFFSETFROM:+0100
TZOFFSETTO:+0200
UID:e89a9db0-b0c7-4b80-8b19-1c8d1658c423
END:STANDARD
END:VTIMEZONE
BEGIN:VEVENT
DESCRIPTION:Nærmere information følger
DTEND:20261119T180000Z
DTSTAMP:20260426T041239Z
DTSTART:20261119T120000Z
LOCATION:Syddansk Universitet\, Campusvej 55\, 5230\, Odense M
SEQUENCE:0
SUMMARY:IRS Institutforum
UID:dc1a418e-0616-425e-8486-c9e82126bfc2
END:VEVENT
END:VCALENDAR
