BEGIN:VCALENDAR
CALSCALE:GREGORIAN
METHOD:PUBLISH
PRODID:-//github.com/rianjs/ical.net//NONSGML ical.net 4.0//EN
VERSION:2.0
X-FROM-URL:https://eom.sdu.dk/events/ical/2958cff1-64fe-40ea-8030-081fa2b9
 5e65
X-WR-CALNAME:Update and Q&A meeting for members of the UArctic -  ICARP IV
  process.
BEGIN:VTIMEZONE
TZID:Europe/Copenhagen
X-LIC-LOCATION:Europe/Copenhagen
BEGIN:DAYLIGHT
DTSTAMP:20260423T090839Z
DTSTART:20261028T030000
SEQUENCE:0
TZNAME:CEST
TZOFFSETFROM:+0200
TZOFFSETTO:+0100
UID:00c85578-b1fe-4eac-8453-369f0f9b57ce
END:DAYLIGHT
BEGIN:STANDARD
DTSTAMP:20260423T090839Z
DTSTART:20260325T020000
SEQUENCE:0
TZNAME:CEST
TZOFFSETFROM:+0100
TZOFFSETTO:+0200
UID:84c4e2c8-867a-45ee-b7ac-17badc0beb80
END:STANDARD
END:VTIMEZONE
BEGIN:VEVENT
DESCRIPTION:The University of the Arctic is pleased to announce the upcomi
 ng session of "Meet UArctic"\, our online update and Q&A meeting for memb
 ers. The session is dedicated to ICARP IV process. We will also be taking
  questions from the audience. \n\nAn open online survey will be a startin
 g point for collecting as wide as possible input on personal opinions of 
 most pressing research needs and challenges faced in everyday life. \n\nP
 lease complete the survey here: (copy the URL and insert in a new browser
 ) https://www.surveymonkey.com/r/UArctic_ICARPIV
DTEND:20230301T173000Z
DTSTAMP:20260423T090839Z
DTSTART:20230301T160000Z
LOCATION:https://us06web.zoom.us/meeting/register/tZcuc-6vqz8qHNKCq3NXI4lt
 eSN-80iDfAd4
SEQUENCE:0
SUMMARY:Update and Q&A meeting for members of the UArctic -  ICARP IV proc
 ess.
UID:27328fc5-da54-44a5-942f-f3185a99c329
END:VEVENT
END:VCALENDAR
