BEGIN:VCALENDAR
CALSCALE:GREGORIAN
METHOD:PUBLISH
PRODID:-//github.com/rianjs/ical.net//NONSGML ical.net 4.0//EN
VERSION:2.0
X-FROM-URL:https://eom.sdu.dk/events/ical/2876cf79-381f-4e45-ae15-726a96de
 59ea
X-WR-CALNAME:Yvan Craig - Experiments in Care: Technology\, Innovation\, a
 nd the Promise and Peril of Intensive Care Medicine
BEGIN:VTIMEZONE
TZID:Europe/Copenhagen
X-LIC-LOCATION:Europe/Copenhagen
BEGIN:DAYLIGHT
DTSTAMP:20260425T153000Z
DTSTART:20261028T030000
SEQUENCE:0
TZNAME:CEST
TZOFFSETFROM:+0200
TZOFFSETTO:+0100
UID:5314452b-35d9-43d0-bb39-eb794ccadc72
END:DAYLIGHT
BEGIN:STANDARD
DTSTAMP:20260425T153000Z
DTSTART:20260325T020000
SEQUENCE:0
TZNAME:CEST
TZOFFSETFROM:+0100
TZOFFSETTO:+0200
UID:d272702f-a020-4c72-a504-bd7623f71be7
END:STANDARD
END:VTIMEZONE
BEGIN:VEVENT
DESCRIPTION:In the early 1950s\, the city of Copenhagen was overwhelmed by
  an outbreak of polio. The heroic effort by the city’s physicians and nur
 ses to keep patients breathing as they recovered from their infections wo
 uld eventually give birth to the modern intensive care unit\, and the new
  specialty of intensive care medicine. By the 1960s\, the technologies th
 at shaped intensive care medicine had changed the direction of major Dani
 sh manufactures like Radiometer\, and those manufacturers in turn had sha
 ped much of the practice of intensive care medicine. This technological t
 ransformation had profound but often hidden consequence for hospital medi
 cine that continued into the 21st century\, and had important ramificatio
 ns during the early phase of the Covid-19 pandemic. \n[nl] [nl] This lect
 ure will trace the history of the modern intensive care unit and its orig
 ins in the 1950s\, and examine the complex role that new technological in
 novations played in shaping both the possibilities of intensive care\, an
 d its many sources of iatrogenic risk.\n[nl] [nl]\nThe lecture is open fo
 r all and takes place at the DIAS Auditorium [nl] [nl]
DTEND:20240306T111500Z
DTSTAMP:20260425T153000Z
DTSTART:20240306T101500Z
LOCATION:Syddansk Universitet\, Fioniavej 34\, 5230\, Odense M
SEQUENCE:0
SUMMARY:Yvan Craig - Experiments in Care: Technology\, Innovation\, and th
 e Promise and Peril of Intensive Care Medicine
UID:6b812b12-36b1-4459-b7f9-2dc1bdd29f7f
END:VEVENT
END:VCALENDAR
