BEGIN:VCALENDAR
CALSCALE:GREGORIAN
METHOD:PUBLISH
PRODID:-//github.com/rianjs/ical.net//NONSGML ical.net 4.0//EN
VERSION:2.0
X-FROM-URL:https://eom.sdu.dk/events/ical/2663b9d6-5f8e-4510-940f-1dfc639b
 6d92
X-WR-CALNAME:FYRAFTENSMØDE OM MENTAL SUNDHED V. FAMU
BEGIN:VTIMEZONE
TZID:Europe/Copenhagen
X-LIC-LOCATION:Europe/Copenhagen
BEGIN:DAYLIGHT
DTSTAMP:20260419T144723Z
DTSTART:20261028T030000
SEQUENCE:0
TZNAME:CEST
TZOFFSETFROM:+0200
TZOFFSETTO:+0100
UID:58e11d43-9d47-4b61-95ed-701a31af691e
END:DAYLIGHT
BEGIN:STANDARD
DTSTAMP:20260419T144723Z
DTSTART:20260325T020000
SEQUENCE:0
TZNAME:CEST
TZOFFSETFROM:+0100
TZOFFSETTO:+0200
UID:58929b5c-697b-4192-9875-b125645904aa
END:STANDARD
END:VTIMEZONE
BEGIN:VEVENT
DESCRIPTION:Fakultetets arbejdsmiljøudvalg (FAMU) inviterer til fyraftensm
 øde om mental sundhed med interessante oplægsholdere - og vi slutter af m
 ed pizza\, øl og hyggeligt samvær. Arrangementet er gratis. [url=https://
 syddanskuni.sharepoint.com/:b:/s/humfogf/ETzzS04xDn1LpV13zdaRiisBBqt0XIFr
 VywBsAsWsnPapQ?e=h0e3DC]Se hele programmet her.[/url]
DTEND:20221011T160000Z
DTSTAMP:20260419T144723Z
DTSTART:20221011T130000Z
LOCATION:Syddansk Universitet\, Campusvej 55\, 5230\, Odense M
SEQUENCE:0
SUMMARY:FYRAFTENSMØDE OM MENTAL SUNDHED V. FAMU
UID:b0b26d43-5262-4ea4-a5bd-170e0a165e0a
END:VEVENT
END:VCALENDAR
