BEGIN:VCALENDAR
CALSCALE:GREGORIAN
METHOD:PUBLISH
PRODID:-//github.com/rianjs/ical.net//NONSGML ical.net 4.0//EN
VERSION:2.0
X-FROM-URL:https://eom.sdu.dk/events/ical/25f85bfe-10dd-4845-9e98-42fccb4f
 797b
X-WR-CALNAME:Reidar Pedersen: The development of clinical ethics support i
 n Norwegian health care
BEGIN:VTIMEZONE
TZID:Europe/Copenhagen
X-LIC-LOCATION:Europe/Copenhagen
BEGIN:DAYLIGHT
DTSTAMP:20260419T151731Z
DTSTART:20261028T030000
SEQUENCE:0
TZNAME:CEST
TZOFFSETFROM:+0200
TZOFFSETTO:+0100
UID:ae602afb-db8d-486f-a2dc-86efe8b47484
END:DAYLIGHT
BEGIN:STANDARD
DTSTAMP:20260419T151731Z
DTSTART:20260325T020000
SEQUENCE:0
TZNAME:CEST
TZOFFSETFROM:+0100
TZOFFSETTO:+0200
UID:7d950eed-b560-4cbd-88a4-3ac9cd08e832
END:STANDARD
END:VTIMEZONE
BEGIN:VEVENT
DESCRIPTION:[b]Guest lecture[/b] [nl] Modern health care faces numerous et
 hical dilemmas. Clinical ethics support services have been developed in m
 any countries in the last decades. In 2021 the Norwegian parliament made 
 clinical ethics committees in health care mandatory by law\, probably as 
 the first country in the world. In this lecture I will present the develo
 pment of clinical ethics support in Norway the last 25 years leading up t
 o this law. This will include a brief presentation of the main clinical e
 thical challenges in the Norwegian health care services the last decades\
 , key measures taken to deal with these ethical challenges\, the role of 
 Centre for medical ethics at the University of Oslo\, and important futur
 e tasks for the field of clinical ethics. [nl] [nl] [b]ABOUT REIDAR PEDER
 SEN [/b] [nl] Professor Reidar Pedersen is one of the leading scholars in
  ethics and communication in health care and have worked with this area s
 ince 2003. Among his many fields of expertise are questions concerning in
 formed consent\, end of life ethics\, advance care planning\, resource al
 location\, coercion and involvement of next of kin\, especially in mental
  health care. His research includes qualitative and quantitative methods\
 , intervention studies\, systematic reviews\, and theoretical and philoso
 phical analyses\, which has resulted in a large number of publications (r
 ead more here). In 2010 Pedersen defended his PhD-thesis on empathy in me
 dicine. In 2011 he was promoted to a post as a researcher with professor 
 competence\, and since 2015\, he has been Professor and Head of the Centr
 e for Medical Ethics. From 2020 an onwards\, he also serves as Deputy hea
 d of the Institute of Health and Society. [nl] [nl] Read more about Peder
 sen’s academic work [url=https://www.med.uio.no/helsam/english/people/aca
 /reidarpe/index.html?fbclid=IwAR2D4mzkLFcL85zEBU0TbEj2uUzI_fDRfXen8ivAzQo
 UyZwVO7D6dFozPOA]here:[/url] [nl] [nl]\n [i]This lecture takes place at t
 he DIAS auditorium. The lceture will be livestreamed on our [url=https://
 www.youtube.com/channel/UCuUBO2_ERXDj9apfMpPBVLw]YouTube Channel.[/url] [
 nl] [nl]
DTEND:20220420T101500Z
DTSTAMP:20260419T151731Z
DTSTART:20220420T091500Z
LOCATION:Syddansk Universitet\, Campusvej 55\, 5230\, Odense M
SEQUENCE:0
SUMMARY:Reidar Pedersen: The development of clinical ethics support in Nor
 wegian health care
UID:86623257-65fc-4b94-8ea5-3d18d82d4ec8
END:VEVENT
END:VCALENDAR
