BEGIN:VCALENDAR
CALSCALE:GREGORIAN
METHOD:PUBLISH
PRODID:-//github.com/rianjs/ical.net//NONSGML ical.net 4.0//EN
VERSION:2.0
X-FROM-URL:https://eom.sdu.dk/events/ical/2533931e-8b60-4c29-8b3f-5c258bda
 9eec
X-WR-CALNAME:Family Capitalism: Past and Present
BEGIN:VTIMEZONE
TZID:Europe/Copenhagen
X-LIC-LOCATION:Europe/Copenhagen
BEGIN:DAYLIGHT
DTSTAMP:20260421T132328Z
DTSTART:20261028T030000
SEQUENCE:0
TZNAME:CEST
TZOFFSETFROM:+0200
TZOFFSETTO:+0100
UID:f1f0e95b-679b-48c5-a30f-4b60738c7f7b
END:DAYLIGHT
BEGIN:STANDARD
DTSTAMP:20260421T132328Z
DTSTART:20260325T020000
SEQUENCE:0
TZNAME:CEST
TZOFFSETFROM:+0100
TZOFFSETTO:+0200
UID:f911df30-394e-406f-be5c-420a4a2a6d00
END:STANDARD
END:VTIMEZONE
BEGIN:VEVENT
DESCRIPTION:Modern capitalism is often associated with faceless institutio
 nal investors and dispersed ownership\, but globally family ownership is\
 , by far\, the most common form of ownership. But what is “family capital
 ism”\, and how are family businesses and their varieties best studied and
  understood? \n\n[b]Program: [/b]Jeppe Nevers (SDU): Introduction\nMorten
  Bennedsen (Copenhagen): The state of economic research on family busines
 ses\nAndrew Popp (CBS): Family capitalism in business history\nKristoffer
  Jensen (Grundfos): The use of history in family businesses\nLouise Skygg
 ebjerg & Anders Ravn Sørensen (CBS): Grønbech – a family-owned business t
 hrough 200 years\nPanel (chair: Paul Sharp)
DTEND:20260527T140000Z
DTSTAMP:20260421T132328Z
DTSTART:20260527T110000Z
LOCATION:DIAS Seminarrum\, Fioniavej 34\, 5230\, Odense M
SEQUENCE:0
SUMMARY:Family Capitalism: Past and Present
UID:a0d28fd2-d1bc-4c86-9825-4bd497868d94
END:VEVENT
END:VCALENDAR
