BEGIN:VCALENDAR
CALSCALE:GREGORIAN
METHOD:PUBLISH
PRODID:-//github.com/rianjs/ical.net//NONSGML ical.net 4.0//EN
VERSION:2.0
X-FROM-URL:https://eom.sdu.dk/events/ical/24468741-b065-4443-879b-f3765232
 b627
X-WR-CALNAME:Introduktion til Team-Based Learning
BEGIN:VTIMEZONE
TZID:Europe/Copenhagen
X-LIC-LOCATION:Europe/Copenhagen
BEGIN:DAYLIGHT
DTSTAMP:20260422T234424Z
DTSTART:20261028T030000
SEQUENCE:0
TZNAME:CEST
TZOFFSETFROM:+0200
TZOFFSETTO:+0100
UID:e9825a90-5a77-4c8a-ad09-a02fbbd42f06
END:DAYLIGHT
BEGIN:STANDARD
DTSTAMP:20260422T234424Z
DTSTART:20260325T020000
SEQUENCE:0
TZNAME:CEST
TZOFFSETFROM:+0100
TZOFFSETTO:+0200
UID:311ce004-5a3a-42f9-92e9-75e58e976a61
END:STANDARD
END:VTIMEZONE
BEGIN:VEVENT
DESCRIPTION:[b]Er du…[/b]\n• nysgerrig på Team-Based Learning?\n• ivrig ef
 ter at løsne op for din auditorium-undervisning?\n• klar til at prøve nog
 et nyt?\n\n[b]TBL - en studenteraktiverende metode til storrumsundervisni
 ng[/b]\nScience Education Hub inviterer til en introduktion i Team-Based 
 Learning (TBL)\, som er en veldokumenteret og struktureret metode til at 
 øge studenternes aktivitet og samarbejde – selv i store auditorier.\nAkti
 viteten henvender sig især til undervisere\, der arbejder med store hold\
 , men metoden kan også let tilpasses mindre undervisningssammenhænge.\n\n
 [url=https://www.sdu.dk/da/forskning/stem/forskning/science-education-hub
 ]Aktiviteten er et tilbud fra Science Education Hub\, som du kan læse mer
 e om her.[/url]
DTEND:20251216T143500Z
DTSTAMP:20260422T234424Z
DTSTART:20251216T130500Z
LOCATION:Syddansk Universitet\, Campusvej 55\, 5230\, Odense M
SEQUENCE:0
SUMMARY:Introduktion til Team-Based Learning
UID:98255d7f-f35f-46e9-bb03-7ca7785d604c
END:VEVENT
END:VCALENDAR
