BEGIN:VCALENDAR
CALSCALE:GREGORIAN
METHOD:PUBLISH
PRODID:-//github.com/rianjs/ical.net//NONSGML ical.net 4.0//EN
VERSION:2.0
X-FROM-URL:https://eom.sdu.dk/events/ical/1e506bfc-0684-4444-9053-071a8679
 c37a
X-WR-CALNAME:IRS Institutråd
BEGIN:VTIMEZONE
TZID:Europe/Copenhagen
X-LIC-LOCATION:Europe/Copenhagen
BEGIN:DAYLIGHT
DTSTAMP:20260426T023838Z
DTSTART:20261028T030000
SEQUENCE:0
TZNAME:CEST
TZOFFSETFROM:+0200
TZOFFSETTO:+0100
UID:7dfc153a-0ddd-42d2-a03e-1f3efafdff18
END:DAYLIGHT
BEGIN:STANDARD
DTSTAMP:20260426T023838Z
DTSTART:20260325T020000
SEQUENCE:0
TZNAME:CEST
TZOFFSETFROM:+0100
TZOFFSETTO:+0200
UID:5730af1d-3e83-43bb-9d99-87cd1d92f8e2
END:STANDARD
END:VTIMEZONE
BEGIN:VEVENT
DESCRIPTION:Afholdes online
DTEND:20260825T220000Z
DTSTAMP:20260426T023838Z
DTSTART:20260825T220000Z
LOCATION:Syddansk Universitet\, Campusvej 55\, 5230\, Odense M
SEQUENCE:0
SUMMARY:IRS Institutråd
UID:c20441d3-e29b-4462-b862-1bc1252485b3
END:VEVENT
END:VCALENDAR
