BEGIN:VCALENDAR
CALSCALE:GREGORIAN
METHOD:PUBLISH
PRODID:-//github.com/rianjs/ical.net//NONSGML ical.net 4.0//EN
VERSION:2.0
X-FROM-URL:https://eom.sdu.dk/events/ical/15381d25-190f-49c5-815e-1f63de7f
 097f
X-WR-CALNAME:Velkommen til den 8. konference om interdisciplinary teamwork
  skills for the 21st century
BEGIN:VTIMEZONE
TZID:Europe/Copenhagen
X-LIC-LOCATION:Europe/Copenhagen
BEGIN:DAYLIGHT
DTSTAMP:20260425T003218Z
DTSTART:20261028T030000
SEQUENCE:0
TZNAME:CEST
TZOFFSETFROM:+0200
TZOFFSETTO:+0100
UID:01275b26-a546-4b3d-8963-c11e162bd0a3
END:DAYLIGHT
BEGIN:STANDARD
DTSTAMP:20260425T003218Z
DTSTART:20260325T020000
SEQUENCE:0
TZNAME:CEST
TZOFFSETFROM:+0100
TZOFFSETTO:+0200
UID:f21f31c4-4fcf-4c7b-801a-52864130e570
END:STANDARD
END:VTIMEZONE
BEGIN:VEVENT
DESCRIPTION:its21-konferencen byder blandt andet på et keynote-oplæg med L
 ars Kolind\, der er kendt for at have introduceret en ikke-hierarkisk org
 anisationsmodel\, også kaldet Spaghetti-organisationen\, hos høreapparatp
 roducenten Oticon. Spaghetti-organisationen og transformationen af Oticon
  har været genstand for management-cases ved IMD.Andre inviterede speaker
 s er Søren Harnow Klausen (Syddansk Universitet) og Coyan Tromp (Universi
 ty of Amsterdam).Programmet byder desuden på parallelle sessioner med opl
 æg og workshops\, hvor forskere præsenterer forskellige tilgange til at f
 acilitere læringsfællesskaber\, samt gode muligheder for at netværke med 
 forskere fra hele Norden. \n\n[url=https://www.sdu.dk/en/om-sdu/institutt
 er-centre/iti/its21-conference-2026]Gå til konferencens hjemmeside[/url]
DTEND:20260528T130000Z
DTSTAMP:20260425T003218Z
DTSTART:20260527T070000Z
LOCATION:Syddansk Universitet\, Campusvej 55\, 5230\, Odense M
SEQUENCE:0
SUMMARY:Velkommen til den 8. konference om interdisciplinary teamwork skil
 ls for the 21st century
UID:b6965927-ba3a-413e-86b9-07a3e3aff7ec
END:VEVENT
END:VCALENDAR
